Workbook

Sheet Presentation
A1: Version | B1: 3.1
A3: JOURNAL DE CAISSE
B5: Nom : | C5: NOM DU DOSSIER
B6: Adresse :
B10: Période débutant le | D10: 01 | E10: Janvier | F10: 2024
D12: Solde caisse en début de période : | E12: 0
A14: Le Journal de Caisse
A15: Pourquoi tenir une caisse :
A16: Tout professionnel (agriculteur, commerçant, artisan…) commercialisant ses produits sur des marchés ou gérant un commerce de détail ouvert au public ou simplement encaissant habituellement des recettes en espèces, doit être en mesure de justifier de la consistance de son chiffre d’affaires. Formaliser sa tenue de caisse permet de répondre à cette obligation ce qui nécessite de la rigueur et également le respect de certaines règles. En effet, le caractère probant de la comptabilité peut être remis en cause par l’administration fiscale pour une caisse ne satisfaisant pas aux obligations. Dans ce cas, ce sera à vous de démontrer que vos recettes sont bien celles déclarées et, sans justification, vous ne pourrez pas vous opposer à un éventuel rehaussement de vos recettes par l’administration. Quelles ventes doivent-être enregistrées dans la caisse ? La tenue de caisse s’impose aux ventes suivantes : - Ventes directes aux particuliers, peu importe le mode de paiement (espèce, chèque, carte bancaire) et peu importe le mode de commercialisation (magasin à la ferme, ventes itinérantes à des particuliers, ventes sur des marchés, ventes à la cueillette, ventes en caissette de viande…). - Ventes aux professionnels avec un paiement en espèce (Rappel : le paiement en espèce est limité à 1 000 €). A contrario, la tenue de caisse ne s’impose pas aux ventes suivantes : - Ventes aux professionnels (autres producteurs, magasins spécialisés, GMS, restaurants, grossistes, restauration collective) pour lesquels une facture est établie et dont le paiement se fait par chèque, carte bancaire ou virement. - Ventes AMAP (à condition d’établir un contrat et une facture pour l’année) - Ventes via des plates-formes de vente (La Ruche qui dit Oui…)
A17: Comment utiliser ce Journal de Caisse ? Ce journal de caisse permet d’établir le récapitulatif mensuel nécessaire au rapprochement avec la comptabilité (support de l’enregistrement comptable). Celui-ci permet d’établir le solde journalier des mouvements de caisse (entrées> ventes…/ sorties> dépôts en banque, prélèvements privés…). Il est important de vérifier le solde de caisse sur le journal avec le solde réel en caisse en fin de vente (ou de journée). Le Journal de Caisse s’établit avec les moyens suivants : - Un « Z de caisse » journalier, avec l’utilisation d’une caisse enregistreuse informatisée qui ne permet pas d’établir un récapitulatif mensuel. Possibilité d’utiliser un format informatique de ce document (Excel ou équivalent). - Un Brouillard de Caisse pour une tenue manuelle de la caisse. Celui-ci doit contenir le détail des recettes par jour, vente par vente, en différenciant par taux de TVA (si nécessaire). Il peut prendre la forme d’un agenda (1 jour par page de préférence), agenda publicitaire (si ventes ponctuelles et simples), bloc vendeur (« ticket tombola ») ou Manifold numéroté (en dupli). L’utilisation de ce Journal de Caisse, en version "Excel" ne répond pas à l'obligation d’établissement de « l’Agenda de Caisse » car cette version informatique n'est pas sécurisée car ne permet pas d'assurer l'authenticité des données. Attention, le solde journalier de caisse ne peut être négatif ; ceci entrainerait une remise en cause immédiate de la comptabilité par l’administration fiscale…
A19: IMPORTANT : En aucun cas, ce journal de caisse ne répond à lui seul aux obligations de tenue de caisse ; il s’accompagne systématiquement d’un « Z de caisse » ou d’un brouillard de caisse.
G106: =DATEVALUE(CONCATENATE("01/",H107,"/",F107)) -> 45292 | H106: concat | I106: Janvier | J106: Février | K106: Mars | L106: Avril | M106: Mai | N106: Juin | O106: Juillet | P106: Août | Q106: Septembre | R106: Octobre | S106: Novembre | T106: Décembre
A107: 1 | B107: Janvier | E107: =E10 -> Janvier | F107: =F10 -> 2024 | G107: =DATE(YEAR(G106),MONTH(G106)+1,DAY(G106)) -> 45323 | H107: =CONCATENATE(I107,J107,K107,L107,M107,N107,O107,P107,Q107,R107,S107,T107) -> 01 | I107: =IF($E$107=I106,"01","") -> 01 | J107: =IF($E$107=J106,"02","") | K107: =IF($E$107=K106,"03","") | L107: =IF($E$107=L106,"04","") | M107: =IF($E$107=M106,"05","") | N107: =IF($E$107=N106,"06","") | O107: =IF($E$107=O106,"07","") | P107: =IF($E$107=P106,"08","") | Q107: =IF($E$107=Q106,"09","") | R107: =IF($E$107=R106,"10","") | S107: =IF($E$107=S106,"11","") | T107: =IF($E$107=T106,"12","")
A108: 2 | B108: Février | E108: =MONTH(G108) -> 2 | F108: =YEAR(G108) -> 2024 | G108: =DATE(YEAR(G106),MONTH(G106)+1,DAY(G106)) -> 45323
A109: 3 | B109: Mars | E109: =MONTH(G109) -> 3 | F109: =YEAR(G109) -> 2024 | G109: =DATE(YEAR(G108),MONTH(G108)+1,DAY(G108)) -> 45352
A110: 4 | B110: Avril | E110: =MONTH(G110) -> 4 | F110: =YEAR(G110) -> 2024 | G110: =DATE(YEAR(G109),MONTH(G109)+1,DAY(G109)) -> 45383
A111: 5 | B111: Mai | E111: =MONTH(G111) -> 5 | F111: =YEAR(G111) -> 2024 | G111: =DATE(YEAR(G110),MONTH(G110)+1,DAY(G110)) -> 45413
A112: 6 | B112: Juin | E112: =MONTH(G112) -> 6 | F112: =YEAR(G112) -> 2024 | G112: =DATE(YEAR(G111),MONTH(G111)+1,DAY(G111)) -> 45444
A113: 7 | B113: Juillet | E113: =MONTH(G113) -> 7 | F113: =YEAR(G113) -> 2024 | G113: =DATE(YEAR(G112),MONTH(G112)+1,DAY(G112)) -> 45474
A114: 8 | B114: Août | E114: =MONTH(G114) -> 8 | F114: =YEAR(G114) -> 2024 | G114: =DATE(YEAR(G113),MONTH(G113)+1,DAY(G113)) -> 45505
A115: 9 | B115: Septembre | E115: =MONTH(G115) -> 9 | F115: =YEAR(G115) -> 2024 | G115: =DATE(YEAR(G114),MONTH(G114)+1,DAY(G114)) -> 45536
A116: 10 | B116: Octobre | E116: =MONTH(G116) -> 10 | F116: =YEAR(G116) -> 2024 | G116: =DATE(YEAR(G115),MONTH(G115)+1,DAY(G115)) -> 45566
A117: 11 | B117: Novembre | E117: =MONTH(G117) -> 11 | F117: =YEAR(G117) -> 2024 | G117: =DATE(YEAR(G116),MONTH(G116)+1,DAY(G116)) -> 45597
A118: 12 | B118: Décembre | E118: =MONTH(G118) -> 12 | F118: =YEAR(G118) -> 2024 | G118: =DATE(YEAR(G117),MONTH(G117)+1,DAY(G117)) -> 45627
C120: Affichage | E120: =CONCATENATE(E107," ",F107) -> Janvier 2024
E121: =CONCATENATE(VLOOKUP(E108,$A$107:$B$118,2,TRUE)," ",F108) -> Février 2024
E122: =CONCATENATE(VLOOKUP(E109,$A$107:$B$118,2,TRUE)," ",F109) -> Mars 2024
E123: =CONCATENATE(VLOOKUP(E110,$A$107:$B$118,2,TRUE)," ",F110) -> Avril 2024
E124: =CONCATENATE(VLOOKUP(E111,$A$107:$B$118,2,TRUE)," ",F111) -> Mai 2024
E125: =CONCATENATE(VLOOKUP(E112,$A$107:$B$118,2,TRUE)," ",F112) -> Juin 2024
E126: =CONCATENATE(VLOOKUP(E113,$A$107:$B$118,2,TRUE)," ",F113) -> Juillet 2024
E127: =CONCATENATE(VLOOKUP(E114,$A$107:$B$118,2,TRUE)," ",F114) -> Août 2024
E128: =CONCATENATE(VLOOKUP(E115,$A$107:$B$118,2,TRUE)," ",F115) -> Septembre 2024
E129: =CONCATENATE(VLOOKUP(E116,$A$107:$B$118,2,TRUE)," ",F116) -> Octobre 2024
E130: =CONCATENATE(VLOOKUP(E117,$A$107:$B$118,2,TRUE)," ",F117) -> Novembre 2024
E131: =CONCATENATE(VLOOKUP(E118,$A$107:$B$118,2,TRUE)," ",F118) -> Décembre 2024

Sheet Mois_1
A1: DETAIL DES SORTIES CAISSE | AB1: DETAIL DES ENTREES CAISSE
A2: =Presentation!C5 -> NOM DU DOSSIER | L2: =Presentation!E120 -> Janvier 2024 | S2: Solde du mois précédent | Y2: =Presentation!E12 -> 0 | AF2: CENTRALISATION DU MOIS DE : | AK2: =L2 -> Janvier 2024
N4: DEPOTS BANQUE
A5: Jour | B5: Prélèvements Privés | D5: Fournisseurs, dépenses exploitation | N5: Autres (virements/ tickets resto…) | O5: Cartes Bancaires | Q5: Remises Chèques | S5: Versements Espèces | U5: Total Sorties Caisse | W5: Jour | Y5: Solde Caisse | AB5: Jour | AC5: Total Entrées Caisse | AE5: Entrées Caisse | AF5: Recettes Caisse | AN5: VENTILATION DES RECETTES | AZ5: Jour
D6: nature | F6: nature | H6: nature | J6: nature | L6: nature | AE6: Monnaie | AF6: dont espèces | AH6: dont chèques | AJ6: dont cartes bancaires | AL6: dont autres (virements/ tickets resto…) | AN6: recette type 1 | AP6: recette type 2 | AR6: recette type 3 | AT6: recette type 4 | AV6: recette type 5 | AX6: Nature recettes diverses
A7: 1 | U7: =SUM(B7:T7) -> 0 | W7: 1 | Y7: =Y2+AC7-U7 -> 0 | AA7: =IF(AN7+AP7+AR7+AT7+AV7+AX7<>(AF7+AH7+AJ7+AL7),"Erreur","") | AB7: 1 | AC7: =SUM(AN7:AY7)+AE7 -> 0 | AZ7: 1
A8: 2 | U8: =SUM(B8:T8) -> 0 | W8: 2 | Y8: =Y7+AC8-U8 -> 0 | AA8: =IF(AN8+AP8+AR8+AT8+AV8+AX8<>(AF8+AH8+AJ8+AL8),"Erreur","") | AB8: 2 | AC8: =SUM(AN8:AY8)+AE8 -> 0 | AZ8: 2
A9: 3 | U9: =SUM(B9:T9) -> 0 | W9: 3 | Y9: =Y8+AC9-U9 -> 0 | AA9: =IF(AN9+AP9+AR9+AT9+AV9+AX9<>(AF9+AH9+AJ9+AL9),"Erreur","") | AB9: 3 | AC9: =SUM(AN9:AY9)+AE9 -> 0 | AZ9: 3
A10: 4 | U10: =SUM(B10:T10) -> 0 | W10: 4 | Y10: =Y9+AC10-U10 -> 0 | AA10: =IF(AN10+AP10+AR10+AT10+AV10+AX10<>(AF10+AH10+AJ10+AL10),"Erreur","") | AB10: 4 | AC10: =SUM(AN10:AY10)+AE10 -> 0 | AZ10: 4
A11: 5 | U11: =SUM(B11:T11) -> 0 | W11: 5 | Y11: =Y10+AC11-U11 -> 0 | AA11: =IF(AN11+AP11+AR11+AT11+AV11+AX11<>(AF11+AH11+AJ11+AL11),"Erreur","") | AB11: 5 | AC11: =SUM(AN11:AY11)+AE11 -> 0 | AZ11: 5
A12: 6 | U12: =SUM(B12:T12) -> 0 | W12: 6 | Y12: =Y11+AC12-U12 -> 0 | AA12: =IF(AN12+AP12+AR12+AT12+AV12+AX12<>(AF12+AH12+AJ12+AL12),"Erreur","") | AB12: 6 | AC12: =SUM(AN12:AY12)+AE12 -> 0 | AZ12: 6
A13: 7 | U13: =SUM(B13:T13) -> 0 | W13: 7 | Y13: =Y12+AC13-U13 -> 0 | AA13: =IF(AN13+AP13+AR13+AT13+AV13+AX13<>(AF13+AH13+AJ13+AL13),"Erreur","") | AB13: 7 | AC13: =SUM(AN13:AY13)+AE13 -> 0 | AZ13: 7
A14: 8 | U14: =SUM(B14:T14) -> 0 | W14: 8 | Y14: =Y13+AC14-U14 -> 0 | AA14: =IF(AN14+AP14+AR14+AT14+AV14+AX14<>(AF14+AH14+AJ14+AL14),"Erreur","") | AB14: 8 | AC14: =SUM(AN14:AY14)+AE14 -> 0 | AZ14: 8
A15: 9 | U15: =SUM(B15:T15) -> 0 | W15: 9 | Y15: =Y14+AC15-U15 -> 0 | AA15: =IF(AN15+AP15+AR15+AT15+AV15+AX15<>(AF15+AH15+AJ15+AL15),"Erreur","") | AB15: 9 | AC15: =SUM(AN15:AY15)+AE15 -> 0 | AZ15: 9
A16: 10 | U16: =SUM(B16:T16) -> 0 | W16: 10 | Y16: =Y15+AC16-U16 -> 0 | AA16: =IF(AN16+AP16+AR16+AT16+AV16+AX16<>(AF16+AH16+AJ16+AL16),"Erreur","") | AB16: 10 | AC16: =SUM(AN16:AY16)+AE16 -> 0 | AZ16: 10
A17: 11 | U17: =SUM(B17:T17) -> 0 | W17: 11 | Y17: =Y16+AC17-U17 -> 0 | AA17: =IF(AN17+AP17+AR17+AT17+AV17+AX17<>(AF17+AH17+AJ17+AL17),"Erreur","") | AB17: 11 | AC17: =SUM(AN17:AY17)+AE17 -> 0 | AZ17: 11
A18: 12 | U18: =SUM(B18:T18) -> 0 | W18: 12 | Y18: =Y17+AC18-U18 -> 0 | AA18: =IF(AN18+AP18+AR18+AT18+AV18+AX18<>(AF18+AH18+AJ18+AL18),"Erreur","") | AB18: 12 | AC18: =SUM(AN18:AY18)+AE18 -> 0 | AZ18: 12
A19: 13 | U19: =SUM(B19:T19) -> 0 | W19: 13 | Y19: =Y18+AC19-U19 -> 0 | AA19: =IF(AN19+AP19+AR19+AT19+AV19+AX19<>(AF19+AH19+AJ19+AL19),"Erreur","") | AB19: 13 | AC19: =SUM(AN19:AY19)+AE19 -> 0 | AZ19: 13
... A37: 31 | U37: =SUM(B37:T37) -> 0 | W37: 31 | Y37: =Y36+AC37-U37 -> 0 | AA37: =IF(AN37+AP37+AR37+AT37+AV37+AX37<>(AF37+AH37+AJ37+AL37),"Erreur","") | AB37: 31 | AC37: =SUM(AN37:AY37)+AE37 -> 0 | AZ37: 31
AA38: =IF(AC39<>(AF39+AH39+AJ39),"Erreur de ventilation >ventilation des recettes< et la somme des colonnes >Espèces/Chèques/Cartes/autres<","")
B39: =SUM(B7:C37) -> 0 | D39: =SUM(D7:E37) -> 0 | F39: =SUM(F7:G37) -> 0 | H39: =SUM(H7:I37) -> 0 | J39: =SUM(J7:K37) -> 0 | L39: =SUM(L7:M37) -> 0 | N39: =SUM(N7:N37) -> 0 | O39: =SUM(O7:P37) -> 0 | Q39: =SUM(Q7:R37) -> 0 | S39: =SUM(S7:T37) -> 0 | U39: =SUM(U7:V37) -> 0 | AB39: Total du mois | AC39: =SUM(AC7:AD37) -> 0 | AE39: =SUM(AE7:AE37) -> 0 | AF39: =SUM(AF7:AG37) -> 0 | AH39: =SUM(AH7:AI37) -> 0 | AJ39: =SUM(AJ7:AK37) -> 0 | AL39: =SUM(AL7:AL37) -> 0 | AN39: =SUM(AN7:AO37) -> 0 | AP39: =SUM(AP7:AQ37) -> 0 | AR39: =SUM(AR7:AS37) -> 0 | AT39: =SUM(AT7:AU37) -> 0 | AV39: =SUM(AV7:AW37) -> 0 | AX39: =SUM(AX7:AY37) -> 0
X41: Solde du mois à reporter : | Y41: =Y37 -> 0

Sheet Mois_2
A1: DETAIL DES SORTIES CAISSE | AB1: DETAIL DES ENTREES CAISSE
A2: =Presentation!C5 -> NOM DU DOSSIER | L2: =Presentation!E121 -> Février 2024 | S2: Solde du mois précédent | Y2: =+Mois_1!Y41 -> 0 | AF2: CENTRALISATION DU MOIS DE : | AK2: =L2 -> Février 2024
N4: DEPOTS BANQUE
A5: Jour | B5: Prélèvements Privés | D5: Fournisseurs, dépenses exploitation | N5: Autres (virements/ tickets resto…) | O5: Cartes Bancaires | Q5: =+Mois_1!Q5 -> Remises Chèques | S5: =Mois_1!S5 -> Versements Espèces | U5: Total Sorties Caisse | W5: Jour | Y5: Solde Caisse | AB5: Jour | AC5: Total Entrées Caisse | AE5: Entrées Caisse | AF5: Recettes Caisse | AN5: VENTILATION DES RECETTES | AZ5: Jour
D6: =+Mois_1!D6 -> nature | F6: =+Mois_1!F6 -> nature | H6: =+Mois_1!H6 -> nature | J6: =+Mois_1!J6 -> nature | L6: =+Mois_1!L6 -> nature | AE6: Monnaie | AF6: dont espèces | AH6: dont chèques | AJ6: dont cartes bancaires | AL6: dont autres (virements/ tickets resto…) | AN6: recette type 1 | AP6: recette type 2 | AR6: recette type 3 | AT6: recette type 4 | AV6: recette type 5 | AX6: Nature recettes diverses
A7: 1 | U7: =SUM(B7:T7) -> 0 | W7: 1 | Y7: =Y2+AC7-U7 -> 0 | AA7: =IF(AN7+AP7+AR7+AT7+AV7+AX7<>(AF7+AH7+AJ7+AL7),"Erreur","") | AB7: 1 | AC7: =SUM(AN7:AY7)+AE7 -> 0 | AZ7: 1
A8: 2 | U8: =SUM(B8:T8) -> 0 | W8: 2 | Y8: =Y7+AC8-U8 -> 0 | AA8: =IF(AN8+AP8+AR8+AT8+AV8+AX8<>(AF8+AH8+AJ8+AL8),"Erreur","") | AB8: 2 | AC8: =SUM(AN8:AY8)+AE8 -> 0 | AZ8: 2
A9: 3 | U9: =SUM(B9:T9) -> 0 | W9: 3 | Y9: =Y8+AC9-U9 -> 0 | AA9: =IF(AN9+AP9+AR9+AT9+AV9+AX9<>(AF9+AH9+AJ9+AL9),"Erreur","") | AB9: 3 | AC9: =SUM(AN9:AY9)+AE9 -> 0 | AZ9: 3
A10: 4 | U10: =SUM(B10:T10) -> 0 | W10: 4 | Y10: =Y9+AC10-U10 -> 0 | AA10: =IF(AN10+AP10+AR10+AT10+AV10+AX10<>(AF10+AH10+AJ10+AL10),"Erreur","") | AB10: 4 | AC10: =SUM(AN10:AY10)+AE10 -> 0 | AZ10: 4
A11: 5 | U11: =SUM(B11:T11) -> 0 | W11: 5 | Y11: =Y10+AC11-U11 -> 0 | AA11: =IF(AN11+AP11+AR11+AT11+AV11+AX11<>(AF11+AH11+AJ11+AL11),"Erreur","") | AB11: 5 | AC11: =SUM(AN11:AY11)+AE11 -> 0 | AZ11: 5
A12: 6 | U12: =SUM(B12:T12) -> 0 | W12: 6 | Y12: =Y11+AC12-U12 -> 0 | AA12: =IF(AN12+AP12+AR12+AT12+AV12+AX12<>(AF12+AH12+AJ12+AL12),"Erreur","") | AB12: 6 | AC12: =SUM(AN12:AY12)+AE12 -> 0 | AZ12: 6
A13: 7 | U13: =SUM(B13:T13) -> 0 | W13: 7 | Y13: =Y12+AC13-U13 -> 0 | AA13: =IF(AN13+AP13+AR13+AT13+AV13+AX13<>(AF13+AH13+AJ13+AL13),"Erreur","") | AB13: 7 | AC13: =SUM(AN13:AY13)+AE13 -> 0 | AZ13: 7
A14: 8 | U14: =SUM(B14:T14) -> 0 | W14: 8 | Y14: =Y13+AC14-U14 -> 0 | AA14: =IF(AN14+AP14+AR14+AT14+AV14+AX14<>(AF14+AH14+AJ14+AL14),"Erreur","") | AB14: 8 | AC14: =SUM(AN14:AY14)+AE14 -> 0 | AZ14: 8
A15: 9 | U15: =SUM(B15:T15) -> 0 | W15: 9 | Y15: =Y14+AC15-U15 -> 0 | AA15: =IF(AN15+AP15+AR15+AT15+AV15+AX15<>(AF15+AH15+AJ15+AL15),"Erreur","") | AB15: 9 | AC15: =SUM(AN15:AY15)+AE15 -> 0 | AZ15: 9
A16: 10 | U16: =SUM(B16:T16) -> 0 | W16: 10 | Y16: =Y15+AC16-U16 -> 0 | AA16: =IF(AN16+AP16+AR16+AT16+AV16+AX16<>(AF16+AH16+AJ16+AL16),"Erreur","") | AB16: 10 | AC16: =SUM(AN16:AY16)+AE16 -> 0 | AZ16: 10
A17: 11 | U17: =SUM(B17:T17) -> 0 | W17: 11 | Y17: =Y16+AC17-U17 -> 0 | AA17: =IF(AN17+AP17+AR17+AT17+AV17+AX17<>(AF17+AH17+AJ17+AL17),"Erreur","") | AB17: 11 | AC17: =SUM(AN17:AY17)+AE17 -> 0 | AZ17: 11
A18: 12 | U18: =SUM(B18:T18) -> 0 | W18: 12 | Y18: =Y17+AC18-U18 -> 0 | AA18: =IF(AN18+AP18+AR18+AT18+AV18+AX18<>(AF18+AH18+AJ18+AL18),"Erreur","") | AB18: 12 | AC18: =SUM(AN18:AY18)+AE18 -> 0 | AZ18: 12
A19: 13 | U19: =SUM(B19:T19) -> 0 | W19: 13 | Y19: =Y18+AC19-U19 -> 0 | AA19: =IF(AN19+AP19+AR19+AT19+AV19+AX19<>(AF19+AH19+AJ19+AL19),"Erreur","") | AB19: 13 | AC19: =SUM(AN19:AY19)+AE19 -> 0 | AZ19: 13
... A37: 31 | U37: =SUM(B37:T37) -> 0 | W37: 31 | Y37: =Y36+AC37-U37 -> 0 | AA37: =IF(AN37+AP37+AR37+AT37+AV37+AX37<>(AF37+AH37+AJ37+AL37),"Erreur","") | AB37: 31 | AC37: =SUM(AN37:AY37)+AE37 -> 0 | AZ37: 31
AA38: =IF(AC39<>(AF39+AH39+AJ39),"Erreur de ventilation >ventilation des recettes< et la somme des colonnes >Espèces/Chèques/Cartes/autres<","")
B39: =SUM(B7:C37) -> 0 | D39: =SUM(D7:E37) -> 0 | F39: =SUM(F7:G37) -> 0 | H39: =SUM(H7:I37) -> 0 | J39: =SUM(J7:K37) -> 0 | L39: =SUM(L7:M37) -> 0 | N39: =SUM(N7:N37) -> 0 | O39: =SUM(O7:P37) -> 0 | Q39: =SUM(Q7:R37) -> 0 | S39: =SUM(S7:T37) -> 0 | U39: =SUM(U7:V37) -> 0 | AB39: Total du mois | AC39: =SUM(AC7:AD37) -> 0 | AE39: =SUM(AE7:AE37) -> 0 | AF39: =SUM(AF7:AG37) -> 0 | AH39: =SUM(AH7:AI37) -> 0 | AJ39: =SUM(AJ7:AK37) -> 0 | AL39: =SUM(AL7:AL37) -> 0 | AN39: =SUM(AN7:AO37) -> 0 | AP39: =SUM(AP7:AQ37) -> 0 | AR39: =SUM(AR7:AS37) -> 0 | AT39: =SUM(AT7:AU37) -> 0 | AV39: =SUM(AV7:AW37) -> 0 | AX39: =SUM(AX7:AY37) -> 0
X41: Solde du mois à reporter : | Y41: =Y37 -> 0

Sheet Mois_3
A1: DETAIL DES SORTIES CAISSE | AB1: DETAIL DES ENTREES CAISSE
A2: =Presentation!C5 -> NOM DU DOSSIER | L2: =Presentation!E122 -> Mars 2024 | S2: Solde du mois précédent | Y2: =+Mois_2!Y41 -> 0 | AF2: CENTRALISATION DU MOIS DE : | AK2: =L2 -> Mars 2024
N4: DEPOTS BANQUE
A5: Jour | B5: Prélèvements Privés | D5: Fournisseurs, dépenses exploitation | N5: Autres (virements/ tickets resto…) | O5: Cartes Bancaires | Q5: =Mois_2!Q5 -> Remises Chèques | S5: =Mois_2!S5 -> Versements Espèces | U5: Total Sorties Caisse | W5: Jour | Y5: Solde Caisse | AB5: Jour | AC5: Total Entrées Caisse | AE5: Entrées Caisse | AF5: Recettes Caisse | AN5: VENTILATION DES RECETTES | AZ5: Jour
D6: =+Mois_1!D6 -> nature | F6: =+Mois_1!F6 -> nature | H6: =+Mois_1!H6 -> nature | J6: =+Mois_1!J6 -> nature | L6: =+Mois_1!L6 -> nature | AE6: Monnaie | AF6: dont espèces | AH6: dont chèques | AJ6: dont cartes bancaires | AL6: dont autres (virements/ tickets resto…) | AN6: recette type 1 | AP6: recette type 2 | AR6: recette type 3 | AT6: recette type 4 | AV6: recette type 5 | AX6: Nature recettes diverses
A7: 1 | U7: =SUM(B7:T7) -> 0 | W7: 1 | Y7: =Y2+AC7-U7 -> 0 | AA7: =IF(AN7+AP7+AR7+AT7+AV7+AX7<>(AF7+AH7+AJ7+AL7),"Erreur","") | AB7: 1 | AC7: =SUM(AN7:AY7)+AE7 -> 0 | AZ7: 1
A8: 2 | U8: =SUM(B8:T8) -> 0 | W8: 2 | Y8: =Y7+AC8-U8 -> 0 | AA8: =IF(AN8+AP8+AR8+AT8+AV8+AX8<>(AF8+AH8+AJ8+AL8),"Erreur","") | AB8: 2 | AC8: =SUM(AN8:AY8)+AE8 -> 0 | AZ8: 2
A9: 3 | U9: =SUM(B9:T9) -> 0 | W9: 3 | Y9: =Y8+AC9-U9 -> 0 | AA9: =IF(AN9+AP9+AR9+AT9+AV9+AX9<>(AF9+AH9+AJ9+AL9),"Erreur","") | AB9: 3 | AC9: =SUM(AN9:AY9)+AE9 -> 0 | AZ9: 3
A10: 4 | U10: =SUM(B10:T10) -> 0 | W10: 4 | Y10: =Y9+AC10-U10 -> 0 | AA10: =IF(AN10+AP10+AR10+AT10+AV10+AX10<>(AF10+AH10+AJ10+AL10),"Erreur","") | AB10: 4 | AC10: =SUM(AN10:AY10)+AE10 -> 0 | AZ10: 4
A11: 5 | U11: =SUM(B11:T11) -> 0 | W11: 5 | Y11: =Y10+AC11-U11 -> 0 | AA11: =IF(AN11+AP11+AR11+AT11+AV11+AX11<>(AF11+AH11+AJ11+AL11),"Erreur","") | AB11: 5 | AC11: =SUM(AN11:AY11)+AE11 -> 0 | AZ11: 5
A12: 6 | U12: =SUM(B12:T12) -> 0 | W12: 6 | Y12: =Y11+AC12-U12 -> 0 | AA12: =IF(AN12+AP12+AR12+AT12+AV12+AX12<>(AF12+AH12+AJ12+AL12),"Erreur","") | AB12: 6 | AC12: =SUM(AN12:AY12)+AE12 -> 0 | AZ12: 6
A13: 7 | U13: =SUM(B13:T13) -> 0 | W13: 7 | Y13: =Y12+AC13-U13 -> 0 | AA13: =IF(AN13+AP13+AR13+AT13+AV13+AX13<>(AF13+AH13+AJ13+AL13),"Erreur","") | AB13: 7 | AC13: =SUM(AN13:AY13)+AE13 -> 0 | AZ13: 7
A14: 8 | U14: =SUM(B14:T14) -> 0 | W14: 8 | Y14: =Y13+AC14-U14 -> 0 | AA14: =IF(AN14+AP14+AR14+AT14+AV14+AX14<>(AF14+AH14+AJ14+AL14),"Erreur","") | AB14: 8 | AC14: =SUM(AN14:AY14)+AE14 -> 0 | AZ14: 8
A15: 9 | U15: =SUM(B15:T15) -> 0 | W15: 9 | Y15: =Y14+AC15-U15 -> 0 | AA15: =IF(AN15+AP15+AR15+AT15+AV15+AX15<>(AF15+AH15+AJ15+AL15),"Erreur","") | AB15: 9 | AC15: =SUM(AN15:AY15)+AE15 -> 0 | AZ15: 9
A16: 10 | U16: =SUM(B16:T16) -> 0 | W16: 10 | Y16: =Y15+AC16-U16 -> 0 | AA16: =IF(AN16+AP16+AR16+AT16+AV16+AX16<>(AF16+AH16+AJ16+AL16),"Erreur","") | AB16: 10 | AC16: =SUM(AN16:AY16)+AE16 -> 0 | AZ16: 10
A17: 11 | U17: =SUM(B17:T17) -> 0 | W17: 11 | Y17: =Y16+AC17-U17 -> 0 | AA17: =IF(AN17+AP17+AR17+AT17+AV17+AX17<>(AF17+AH17+AJ17+AL17),"Erreur","") | AB17: 11 | AC17: =SUM(AN17:AY17)+AE17 -> 0 | AZ17: 11
A18: 12 | U18: =SUM(B18:T18) -> 0 | W18: 12 | Y18: =Y17+AC18-U18 -> 0 | AA18: =IF(AN18+AP18+AR18+AT18+AV18+AX18<>(AF18+AH18+AJ18+AL18),"Erreur","") | AB18: 12 | AC18: =SUM(AN18:AY18)+AE18 -> 0 | AZ18: 12
A19: 13 | U19: =SUM(B19:T19) -> 0 | W19: 13 | Y19: =Y18+AC19-U19 -> 0 | AA19: =IF(AN19+AP19+AR19+AT19+AV19+AX19<>(AF19+AH19+AJ19+AL19),"Erreur","") | AB19: 13 | AC19: =SUM(AN19:AY19)+AE19 -> 0 | AZ19: 13
... A37: 31 | U37: =SUM(B37:T37) -> 0 | W37: 31 | Y37: =Y36+AC37-U37 -> 0 | AA37: =IF(AN37+AP37+AR37+AT37+AV37+AX37<>(AF37+AH37+AJ37+AL37),"Erreur","") | AB37: 31 | AC37: =SUM(AN37:AY37)+AE37 -> 0 | AZ37: 31
AA38: =IF(AC39<>(AF39+AH39+AJ39),"Erreur de ventilation >ventilation des recettes< et la somme des colonnes >Espèces/Chèques/Cartes/autres<","")
B39: =SUM(B7:C37) -> 0 | D39: =SUM(D7:E37) -> 0 | F39: =SUM(F7:G37) -> 0 | H39: =SUM(H7:I37) -> 0 | J39: =SUM(J7:K37) -> 0 | L39: =SUM(L7:M37) -> 0 | N39: =SUM(N7:N37) -> 0 | O39: =SUM(O7:P37) -> 0 | Q39: =SUM(Q7:R37) -> 0 | S39: =SUM(S7:T37) -> 0 | U39: =SUM(U7:V37) -> 0 | AB39: Total du mois | AC39: =SUM(AC7:AD37) -> 0 | AE39: =SUM(AE7:AE37) -> 0 | AF39: =SUM(AF7:AG37) -> 0 | AH39: =SUM(AH7:AI37) -> 0 | AJ39: =SUM(AJ7:AK37) -> 0 | AL39: =SUM(AL7:AL37) -> 0 | AN39: =SUM(AN7:AO37) -> 0 | AP39: =SUM(AP7:AQ37) -> 0 | AR39: =SUM(AR7:AS37) -> 0 | AT39: =SUM(AT7:AU37) -> 0 | AV39: =SUM(AV7:AW37) -> 0 | AX39: =SUM(AX7:AY37) -> 0
X41: Solde du mois à reporter : | Y41: =Y37 -> 0

Sheet Mois_4
A1: DETAIL DES SORTIES CAISSE | AB1: DETAIL DES ENTREES CAISSE
A2: =Presentation!C5 -> NOM DU DOSSIER | L2: =Presentation!E123 -> Avril 2024 | S2: Solde du mois précédent | Y2: =+Mois_3!Y41 -> 0 | AF2: CENTRALISATION DU MOIS DE : | AK2: =L2 -> Avril 2024
N4: DEPOTS BANQUE
A5: Jour | B5: Prélèvements Privés | D5: Fournisseurs, dépenses exploitation | N5: Autres (virements/ tickets resto…) | O5: Cartes Bancaires | Q5: Remises Chèques | S5: Versements Espèces | U5: Total Sorties Caisse | W5: Jour | Y5: Solde Caisse | AB5: Jour | AC5: Total Entrées Caisse | AE5: Entrées Caisse | AF5: Recettes Caisse | AN5: VENTILATION DES RECETTES | AZ5: Jour
D6: =+Mois_1!D6 -> nature | F6: =+Mois_1!F6 -> nature | H6: =+Mois_1!H6 -> nature | J6: =+Mois_1!J6 -> nature | L6: =+Mois_1!L6 -> nature | AE6: Monnaie | AF6: dont espèces | AH6: dont chèques | AJ6: dont cartes bancaires | AL6: dont autres (virements/ tickets resto…) | AN6: recette type 1 | AP6: recette type 2 | AR6: recette type 3 | AT6: recette type 4 | AV6: recette type 5 | AX6: Nature recettes diverses
A7: 1 | U7: =SUM(B7:T7) -> 0 | W7: 1 | Y7: =Y2+AC7-U7 -> 0 | AA7: =IF(AN7+AP7+AR7+AT7+AV7+AX7<>(AF7+AH7+AJ7+AL7),"Erreur","") | AB7: 1 | AC7: =SUM(AN7:AY7)+AE7 -> 0 | AZ7: 1
A8: 2 | U8: =SUM(B8:T8) -> 0 | W8: 2 | Y8: =Y7+AC8-U8 -> 0 | AA8: =IF(AN8+AP8+AR8+AT8+AV8+AX8<>(AF8+AH8+AJ8+AL8),"Erreur","") | AB8: 2 | AC8: =SUM(AN8:AY8)+AE8 -> 0 | AZ8: 2
A9: 3 | U9: =SUM(B9:T9) -> 0 | W9: 3 | Y9: =Y8+AC9-U9 -> 0 | AA9: =IF(AN9+AP9+AR9+AT9+AV9+AX9<>(AF9+AH9+AJ9+AL9),"Erreur","") | AB9: 3 | AC9: =SUM(AN9:AY9)+AE9 -> 0 | AZ9: 3
A10: 4 | U10: =SUM(B10:T10) -> 0 | W10: 4 | Y10: =Y9+AC10-U10 -> 0 | AA10: =IF(AN10+AP10+AR10+AT10+AV10+AX10<>(AF10+AH10+AJ10+AL10),"Erreur","") | AB10: 4 | AC10: =SUM(AN10:AY10)+AE10 -> 0 | AZ10: 4
A11: 5 | U11: =SUM(B11:T11) -> 0 | W11: 5 | Y11: =Y10+AC11-U11 -> 0 | AA11: =IF(AN11+AP11+AR11+AT11+AV11+AX11<>(AF11+AH11+AJ11+AL11),"Erreur","") | AB11: 5 | AC11: =SUM(AN11:AY11)+AE11 -> 0 | AZ11: 5
A12: 6 | U12: =SUM(B12:T12) -> 0 | W12: 6 | Y12: =Y11+AC12-U12 -> 0 | AA12: =IF(AN12+AP12+AR12+AT12+AV12+AX12<>(AF12+AH12+AJ12+AL12),"Erreur","") | AB12: 6 | AC12: =SUM(AN12:AY12)+AE12 -> 0 | AZ12: 6
A13: 7 | U13: =SUM(B13:T13) -> 0 | W13: 7 | Y13: =Y12+AC13-U13 -> 0 | AA13: =IF(AN13+AP13+AR13+AT13+AV13+AX13<>(AF13+AH13+AJ13+AL13),"Erreur","") | AB13: 7 | AC13: =SUM(AN13:AY13)+AE13 -> 0 | AZ13: 7
A14: 8 | U14: =SUM(B14:T14) -> 0 | W14: 8 | Y14: =Y13+AC14-U14 -> 0 | AA14: =IF(AN14+AP14+AR14+AT14+AV14+AX14<>(AF14+AH14+AJ14+AL14),"Erreur","") | AB14: 8 | AC14: =SUM(AN14:AY14)+AE14 -> 0 | AZ14: 8
A15: 9 | U15: =SUM(B15:T15) -> 0 | W15: 9 | Y15: =Y14+AC15-U15 -> 0 | AA15: =IF(AN15+AP15+AR15+AT15+AV15+AX15<>(AF15+AH15+AJ15+AL15),"Erreur","") | AB15: 9 | AC15: =SUM(AN15:AY15)+AE15 -> 0 | AZ15: 9
A16: 10 | U16: =SUM(B16:T16) -> 0 | W16: 10 | Y16: =Y15+AC16-U16 -> 0 | AA16: =IF(AN16+AP16+AR16+AT16+AV16+AX16<>(AF16+AH16+AJ16+AL16),"Erreur","") | AB16: 10 | AC16: =SUM(AN16:AY16)+AE16 -> 0 | AZ16: 10
A17: 11 | U17: =SUM(B17:T17) -> 0 | W17: 11 | Y17: =Y16+AC17-U17 -> 0 | AA17: =IF(AN17+AP17+AR17+AT17+AV17+AX17<>(AF17+AH17+AJ17+AL17),"Erreur","") | AB17: 11 | AC17: =SUM(AN17:AY17)+AE17 -> 0 | AZ17: 11
A18: 12 | U18: =SUM(B18:T18) -> 0 | W18: 12 | Y18: =Y17+AC18-U18 -> 0 | AA18: =IF(AN18+AP18+AR18+AT18+AV18+AX18<>(AF18+AH18+AJ18+AL18),"Erreur","") | AB18: 12 | AC18: =SUM(AN18:AY18)+AE18 -> 0 | AZ18: 12
A19: 13 | U19: =SUM(B19:T19) -> 0 | W19: 13 | Y19: =Y18+AC19-U19 -> 0 | AA19: =IF(AN19+AP19+AR19+AT19+AV19+AX19<>(AF19+AH19+AJ19+AL19),"Erreur","") | AB19: 13 | AC19: =SUM(AN19:AY19)+AE19 -> 0 | AZ19: 13
... A37: 31 | U37: =SUM(B37:T37) -> 0 | W37: 31 | Y37: =Y36+AC37-U37 -> 0 | AA37: =IF(AN37+AP37+AR37+AT37+AV37+AX37<>(AF37+AH37+AJ37+AL37),"Erreur","") | AB37: 31 | AC37: =SUM(AN37:AY37)+AE37 -> 0 | AZ37: 31
AA38: =IF(AC39<>(AF39+AH39+AJ39),"Erreur de ventilation >ventilation des recettes< et la somme des colonnes >Espèces/Chèques/Cartes/autres<","")
B39: =SUM(B7:C37) -> 0 | D39: =SUM(D7:E37) -> 0 | F39: =SUM(F7:G37) -> 0 | H39: =SUM(H7:I37) -> 0 | J39: =SUM(J7:K37) -> 0 | L39: =SUM(L7:M37) -> 0 | N39: =SUM(N7:N37) -> 0 | O39: =SUM(O7:P37) -> 0 | Q39: =SUM(Q7:R37) -> 0 | S39: =SUM(S7:T37) -> 0 | U39: =SUM(U7:V37) -> 0 | AB39: Total du mois | AC39: =SUM(AC7:AD37) -> 0 | AE39: =SUM(AE7:AE37) -> 0 | AF39: =SUM(AF7:AG37) -> 0 | AH39: =SUM(AH7:AI37) -> 0 | AJ39: =SUM(AJ7:AK37) -> 0 | AL39: =SUM(AL7:AL37) -> 0 | AN39: =SUM(AN7:AO37) -> 0 | AP39: =SUM(AP7:AQ37) -> 0 | AR39: =SUM(AR7:AS37) -> 0 | AT39: =SUM(AT7:AU37) -> 0 | AV39: =SUM(AV7:AW37) -> 0 | AX39: =SUM(AX7:AY37) -> 0
X41: Solde du mois à reporter : | Y41: =Y37 -> 0

Sheet Mois_5
A1: DETAIL DES SORTIES CAISSE | AB1: DETAIL DES ENTREES CAISSE
A2: =Presentation!C5 -> NOM DU DOSSIER | L2: =Presentation!E124 -> Mai 2024 | S2: Solde du mois précédent | Y2: =+Mois_4!Y41 -> 0 | AF2: CENTRALISATION DU MOIS DE : | AK2: =L2 -> Mai 2024
N4: DEPOTS BANQUE
A5: Jour | B5: Prélèvements Privés | D5: Fournisseurs, dépenses exploitation | N5: Autres (virements/ tickets resto…) | O5: Cartes Bancaires | Q5: Remises Chèques | S5: Versements Espèces | U5: Total Sorties Caisse | W5: Jour | Y5: Solde Caisse | AB5: Jour | AC5: Total Entrées Caisse | AE5: Entrées Caisse | AF5: Recettes Caisse | AN5: VENTILATION DES RECETTES | AZ5: Jour
D6: =+Mois_1!D6 -> nature | F6: =+Mois_1!F6 -> nature | H6: =+Mois_1!H6 -> nature | J6: =+Mois_1!J6 -> nature | L6: =+Mois_1!L6 -> nature | AE6: Monnaie | AF6: dont espèces | AH6: dont chèques | AJ6: dont cartes bancaires | AL6: dont autres (virements/ tickets resto…) | AN6: recette type 1 | AP6: recette type 2 | AR6: recette type 3 | AT6: recette type 4 | AV6: recette type 5 | AX6: Nature recettes diverses
A7: 1 | U7: =SUM(B7:T7) -> 0 | W7: 1 | Y7: =Y2+AC7-U7 -> 0 | AA7: =IF(AN7+AP7+AR7+AT7+AV7+AX7<>(AF7+AH7+AJ7+AL7),"Erreur","") | AB7: 1 | AC7: =SUM(AN7:AY7)+AE7 -> 0 | AZ7: 1
A8: 2 | U8: =SUM(B8:T8) -> 0 | W8: 2 | Y8: =Y7+AC8-U8 -> 0 | AA8: =IF(AN8+AP8+AR8+AT8+AV8+AX8<>(AF8+AH8+AJ8+AL8),"Erreur","") | AB8: 2 | AC8: =SUM(AN8:AY8)+AE8 -> 0 | AZ8: 2
A9: 3 | U9: =SUM(B9:T9) -> 0 | W9: 3 | Y9: =Y8+AC9-U9 -> 0 | AA9: =IF(AN9+AP9+AR9+AT9+AV9+AX9<>(AF9+AH9+AJ9+AL9),"Erreur","") | AB9: 3 | AC9: =SUM(AN9:AY9)+AE9 -> 0 | AZ9: 3
A10: 4 | U10: =SUM(B10:T10) -> 0 | W10: 4 | Y10: =Y9+AC10-U10 -> 0 | AA10: =IF(AN10+AP10+AR10+AT10+AV10+AX10<>(AF10+AH10+AJ10+AL10),"Erreur","") | AB10: 4 | AC10: =SUM(AN10:AY10)+AE10 -> 0 | AZ10: 4
A11: 5 | U11: =SUM(B11:T11) -> 0 | W11: 5 | Y11: =Y10+AC11-U11 -> 0 | AA11: =IF(AN11+AP11+AR11+AT11+AV11+AX11<>(AF11+AH11+AJ11+AL11),"Erreur","") | AB11: 5 | AC11: =SUM(AN11:AY11)+AE11 -> 0 | AZ11: 5
A12: 6 | U12: =SUM(B12:T12) -> 0 | W12: 6 | Y12: =Y11+AC12-U12 -> 0 | AA12: =IF(AN12+AP12+AR12+AT12+AV12+AX12<>(AF12+AH12+AJ12+AL12),"Erreur","") | AB12: 6 | AC12: =SUM(AN12:AY12)+AE12 -> 0 | AZ12: 6
A13: 7 | U13: =SUM(B13:T13) -> 0 | W13: 7 | Y13: =Y12+AC13-U13 -> 0 | AA13: =IF(AN13+AP13+AR13+AT13+AV13+AX13<>(AF13+AH13+AJ13+AL13),"Erreur","") | AB13: 7 | AC13: =SUM(AN13:AY13)+AE13 -> 0 | AZ13: 7
A14: 8 | U14: =SUM(B14:T14) -> 0 | W14: 8 | Y14: =Y13+AC14-U14 -> 0 | AA14: =IF(AN14+AP14+AR14+AT14+AV14+AX14<>(AF14+AH14+AJ14+AL14),"Erreur","") | AB14: 8 | AC14: =SUM(AN14:AY14)+AE14 -> 0 | AZ14: 8
A15: 9 | U15: =SUM(B15:T15) -> 0 | W15: 9 | Y15: =Y14+AC15-U15 -> 0 | AA15: =IF(AN15+AP15+AR15+AT15+AV15+AX15<>(AF15+AH15+AJ15+AL15),"Erreur","") | AB15: 9 | AC15: =SUM(AN15:AY15)+AE15 -> 0 | AZ15: 9
A16: 10 | U16: =SUM(B16:T16) -> 0 | W16: 10 | Y16: =Y15+AC16-U16 -> 0 | AA16: =IF(AN16+AP16+AR16+AT16+AV16+AX16<>(AF16+AH16+AJ16+AL16),"Erreur","") | AB16: 10 | AC16: =SUM(AN16:AY16)+AE16 -> 0 | AZ16: 10
A17: 11 | U17: =SUM(B17:T17) -> 0 | W17: 11 | Y17: =Y16+AC17-U17 -> 0 | AA17: =IF(AN17+AP17+AR17+AT17+AV17+AX17<>(AF17+AH17+AJ17+AL17),"Erreur","") | AB17: 11 | AC17: =SUM(AN17:AY17)+AE17 -> 0 | AZ17: 11
A18: 12 | U18: =SUM(B18:T18) -> 0 | W18: 12 | Y18: =Y17+AC18-U18 -> 0 | AA18: =IF(AN18+AP18+AR18+AT18+AV18+AX18<>(AF18+AH18+AJ18+AL18),"Erreur","") | AB18: 12 | AC18: =SUM(AN18:AY18)+AE18 -> 0 | AZ18: 12
A19: 13 | U19: =SUM(B19:T19) -> 0 | W19: 13 | Y19: =Y18+AC19-U19 -> 0 | AA19: =IF(AN19+AP19+AR19+AT19+AV19+AX19<>(AF19+AH19+AJ19+AL19),"Erreur","") | AB19: 13 | AC19: =SUM(AN19:AY19)+AE19 -> 0 | AZ19: 13
... A37: 31 | U37: =SUM(B37:T37) -> 0 | W37: 31 | Y37: =Y36+AC37-U37 -> 0 | AA37: =IF(AN37+AP37+AR37+AT37+AV37+AX37<>(AF37+AH37+AJ37+AL37),"Erreur","") | AB37: 31 | AC37: =SUM(AN37:AY37)+AE37 -> 0 | AZ37: 31
AA38: =IF(AC39<>(AF39+AH39+AJ39),"Erreur de ventilation >ventilation des recettes< et la somme des colonnes >Espèces/Chèques/Cartes/autres<","")
B39: =SUM(B7:C37) -> 0 | D39: =SUM(D7:E37) -> 0 | F39: =SUM(F7:G37) -> 0 | H39: =SUM(H7:I37) -> 0 | J39: =SUM(J7:K37) -> 0 | L39: =SUM(L7:M37) -> 0 | N39: =SUM(N7:N37) -> 0 | O39: =SUM(O7:P37) -> 0 | Q39: =SUM(Q7:R37) -> 0 | S39: =SUM(S7:T37) -> 0 | U39: =SUM(U7:V37) -> 0 | AB39: Total du mois | AC39: =SUM(AC7:AD37) -> 0 | AE39: =SUM(AE7:AE37) -> 0 | AF39: =SUM(AF7:AG37) -> 0 | AH39: =SUM(AH7:AI37) -> 0 | AJ39: =SUM(AJ7:AK37) -> 0 | AL39: =SUM(AL7:AL37) -> 0 | AN39: =SUM(AN7:AO37) -> 0 | AP39: =SUM(AP7:AQ37) -> 0 | AR39: =SUM(AR7:AS37) -> 0 | AT39: =SUM(AT7:AU37) -> 0 | AV39: =SUM(AV7:AW37) -> 0 | AX39: =SUM(AX7:AY37) -> 0
X41: Solde du mois à reporter : | Y41: =Y37 -> 0

Sheet Mois_6
A1: DETAIL DES SORTIES CAISSE | AB1: DETAIL DES ENTREES CAISSE
A2: =Presentation!C5 -> NOM DU DOSSIER | L2: =Presentation!E125 -> Juin 2024 | S2: Solde du mois précédent | Y2: =+Mois_5!Y41 -> 0 | AF2: CENTRALISATION DU MOIS DE : | AK2: =L2 -> Juin 2024
N4: DEPOTS BANQUE
A5: Jour | B5: Prélèvements Privés | D5: Fournisseurs, dépenses exploitation | N5: Autres (virements/ tickets resto…) | O5: Cartes Bancaires | Q5: Remises Chèques | S5: Versements Espèces | U5: Total Sorties Caisse | W5: Jour | Y5: Solde Caisse | AB5: Jour | AC5: Total Entrées Caisse | AE5: Entrées Caisse | AF5: Recettes Caisse | AN5: VENTILATION DES RECETTES | AZ5: Jour
D6: =+Mois_1!D6 -> nature | F6: =+Mois_1!F6 -> nature | H6: =+Mois_1!H6 -> nature | J6: =+Mois_1!J6 -> nature | L6: =+Mois_1!L6 -> nature | AE6: Monnaie | AF6: dont espèces | AH6: dont chèques | AJ6: dont cartes bancaires | AL6: dont autres (virements/ tickets resto…) | AN6: recette type 1 | AP6: recette type 2 | AR6: recette type 3 | AT6: recette type 4 | AV6: recette type 5 | AX6: Nature recettes diverses
A7: 1 | U7: =SUM(B7:T7) -> 0 | W7: 1 | Y7: =Y2+AC7-U7 -> 0 | AA7: =IF(AN7+AP7+AR7+AT7+AV7+AX7<>(AF7+AH7+AJ7+AL7),"Erreur","") | AB7: 1 | AC7: =SUM(AN7:AY7)+AE7 -> 0 | AZ7: 1
A8: 2 | U8: =SUM(B8:T8) -> 0 | W8: 2 | Y8: =Y7+AC8-U8 -> 0 | AA8: =IF(AN8+AP8+AR8+AT8+AV8+AX8<>(AF8+AH8+AJ8+AL8),"Erreur","") | AB8: 2 | AC8: =SUM(AN8:AY8)+AE8 -> 0 | AZ8: 2
A9: 3 | U9: =SUM(B9:T9) -> 0 | W9: 3 | Y9: =Y8+AC9-U9 -> 0 | AA9: =IF(AN9+AP9+AR9+AT9+AV9+AX9<>(AF9+AH9+AJ9+AL9),"Erreur","") | AB9: 3 | AC9: =SUM(AN9:AY9)+AE9 -> 0 | AZ9: 3
A10: 4 | U10: =SUM(B10:T10) -> 0 | W10: 4 | Y10: =Y9+AC10-U10 -> 0 | AA10: =IF(AN10+AP10+AR10+AT10+AV10+AX10<>(AF10+AH10+AJ10+AL10),"Erreur","") | AB10: 4 | AC10: =SUM(AN10:AY10)+AE10 -> 0 | AZ10: 4
A11: 5 | U11: =SUM(B11:T11) -> 0 | W11: 5 | Y11: =Y10+AC11-U11 -> 0 | AA11: =IF(AN11+AP11+AR11+AT11+AV11+AX11<>(AF11+AH11+AJ11+AL11),"Erreur","") | AB11: 5 | AC11: =SUM(AN11:AY11)+AE11 -> 0 | AZ11: 5
A12: 6 | U12: =SUM(B12:T12) -> 0 | W12: 6 | Y12: =Y11+AC12-U12 -> 0 | AA12: =IF(AN12+AP12+AR12+AT12+AV12+AX12<>(AF12+AH12+AJ12+AL12),"Erreur","") | AB12: 6 | AC12: =SUM(AN12:AY12)+AE12 -> 0 | AZ12: 6
A13: 7 | U13: =SUM(B13:T13) -> 0 | W13: 7 | Y13: =Y12+AC13-U13 -> 0 | AA13: =IF(AN13+AP13+AR13+AT13+AV13+AX13<>(AF13+AH13+AJ13+AL13),"Erreur","") | AB13: 7 | AC13: =SUM(AN13:AY13)+AE13 -> 0 | AZ13: 7
A14: 8 | U14: =SUM(B14:T14) -> 0 | W14: 8 | Y14: =Y13+AC14-U14 -> 0 | AA14: =IF(AN14+AP14+AR14+AT14+AV14+AX14<>(AF14+AH14+AJ14+AL14),"Erreur","") | AB14: 8 | AC14: =SUM(AN14:AY14)+AE14 -> 0 | AZ14: 8
A15: 9 | U15: =SUM(B15:T15) -> 0 | W15: 9 | Y15: =Y14+AC15-U15 -> 0 | AA15: =IF(AN15+AP15+AR15+AT15+AV15+AX15<>(AF15+AH15+AJ15+AL15),"Erreur","") | AB15: 9 | AC15: =SUM(AN15:AY15)+AE15 -> 0 | AZ15: 9
A16: 10 | U16: =SUM(B16:T16) -> 0 | W16: 10 | Y16: =Y15+AC16-U16 -> 0 | AA16: =IF(AN16+AP16+AR16+AT16+AV16+AX16<>(AF16+AH16+AJ16+AL16),"Erreur","") | AB16: 10 | AC16: =SUM(AN16:AY16)+AE16 -> 0 | AZ16: 10
A17: 11 | U17: =SUM(B17:T17) -> 0 | W17: 11 | Y17: =Y16+AC17-U17 -> 0 | AA17: =IF(AN17+AP17+AR17+AT17+AV17+AX17<>(AF17+AH17+AJ17+AL17),"Erreur","") | AB17: 11 | AC17: =SUM(AN17:AY17)+AE17 -> 0 | AZ17: 11
A18: 12 | U18: =SUM(B18:T18) -> 0 | W18: 12 | Y18: =Y17+AC18-U18 -> 0 | AA18: =IF(AN18+AP18+AR18+AT18+AV18+AX18<>(AF18+AH18+AJ18+AL18),"Erreur","") | AB18: 12 | AC18: =SUM(AN18:AY18)+AE18 -> 0 | AZ18: 12
A19: 13 | U19: =SUM(B19:T19) -> 0 | W19: 13 | Y19: =Y18+AC19-U19 -> 0 | AA19: =IF(AN19+AP19+AR19+AT19+AV19+AX19<>(AF19+AH19+AJ19+AL19),"Erreur","") | AB19: 13 | AC19: =SUM(AN19:AY19)+AE19 -> 0 | AZ19: 13
... A37: 31 | U37: =SUM(B37:T37) -> 0 | W37: 31 | Y37: =Y36+AC37-U37 -> 0 | AA37: =IF(AN37+AP37+AR37+AT37+AV37+AX37<>(AF37+AH37+AJ37+AL37),"Erreur","") | AB37: 31 | AC37: =SUM(AN37:AY37)+AE37 -> 0 | AZ37: 31
AA38: =IF(AC39<>(AF39+AH39+AJ39),"Erreur de ventilation >ventilation des recettes< et la somme des colonnes >Espèces/Chèques/Cartes/autres<","")
B39: =SUM(B7:C37) -> 0 | D39: =SUM(D7:E37) -> 0 | F39: =SUM(F7:G37) -> 0 | H39: =SUM(H7:I37) -> 0 | J39: =SUM(J7:K37) -> 0 | L39: =SUM(L7:M37) -> 0 | N39: =SUM(N7:N37) -> 0 | O39: =SUM(O7:P37) -> 0 | Q39: =SUM(Q7:R37) -> 0 | S39: =SUM(S7:T37) -> 0 | U39: =SUM(U7:V37) -> 0 | AB39: Total du mois | AC39: =SUM(AC7:AD37) -> 0 | AE39: =SUM(AE7:AE37) -> 0 | AF39: =SUM(AF7:AG37) -> 0 | AH39: =SUM(AH7:AI37) -> 0 | AJ39: =SUM(AJ7:AK37) -> 0 | AL39: =SUM(AL7:AL37) -> 0 | AN39: =SUM(AN7:AO37) -> 0 | AP39: =SUM(AP7:AQ37) -> 0 | AR39: =SUM(AR7:AS37) -> 0 | AT39: =SUM(AT7:AU37) -> 0 | AV39: =SUM(AV7:AW37) -> 0 | AX39: =SUM(AX7:AY37) -> 0
X41: Solde du mois à reporter : | Y41: =Y37 -> 0

Sheet Mois_7
A1: DETAIL DES SORTIES CAISSE | AB1: DETAIL DES ENTREES CAISSE
A2: =Presentation!C5 -> NOM DU DOSSIER | L2: =Presentation!E126 -> Juillet 2024 | S2: Solde du mois précédent | Y2: =+Mois_6!Y41 -> 0 | AF2: CENTRALISATION DU MOIS DE : | AK2: =L2 -> Juillet 2024
N4: DEPOTS BANQUE
A5: Jour | B5: Prélèvements Privés | D5: Fournisseurs, dépenses exploitation | N5: Autres (virements/ tickets resto…) | O5: Cartes Bancaires | Q5: Remises Chèques | S5: Versements Espèces | U5: Total Sorties Caisse | W5: Jour | Y5: Solde Caisse | AB5: Jour | AC5: Total Entrées Caisse | AE5: Entrées Caisse | AF5: Recettes Caisse | AN5: VENTILATION DES RECETTES | AZ5: Jour
D6: =+Mois_1!D6 -> nature | F6: =+Mois_1!F6 -> nature | H6: =+Mois_1!H6 -> nature | J6: =+Mois_1!J6 -> nature | L6: =+Mois_1!L6 -> nature | AE6: Monnaie | AF6: dont espèces | AH6: dont chèques | AJ6: dont cartes bancaires | AL6: dont autres (virements/ tickets resto…) | AN6: recette type 1 | AP6: recette type 2 | AR6: recette type 3 | AT6: recette type 4 | AV6: recette type 5 | AX6: Nature recettes diverses
A7: 1 | U7: =SUM(B7:T7) -> 0 | W7: 1 | Y7: =Y2+AC7-U7 -> 0 | AA7: =IF(AN7+AP7+AR7+AT7+AV7+AX7<>(AF7+AH7+AJ7+AL7),"Erreur","") | AB7: 1 | AC7: =SUM(AN7:AY7)+AE7 -> 0 | AZ7: 1
A8: 2 | U8: =SUM(B8:T8) -> 0 | W8: 2 | Y8: =Y7+AC8-U8 -> 0 | AA8: =IF(AN8+AP8+AR8+AT8+AV8+AX8<>(AF8+AH8+AJ8+AL8),"Erreur","") | AB8: 2 | AC8: =SUM(AN8:AY8)+AE8 -> 0 | AZ8: 2
A9: 3 | U9: =SUM(B9:T9) -> 0 | W9: 3 | Y9: =Y8+AC9-U9 -> 0 | AA9: =IF(AN9+AP9+AR9+AT9+AV9+AX9<>(AF9+AH9+AJ9+AL9),"Erreur","") | AB9: 3 | AC9: =SUM(AN9:AY9)+AE9 -> 0 | AZ9: 3
A10: 4 | U10: =SUM(B10:T10) -> 0 | W10: 4 | Y10: =Y9+AC10-U10 -> 0 | AA10: =IF(AN10+AP10+AR10+AT10+AV10+AX10<>(AF10+AH10+AJ10+AL10),"Erreur","") | AB10: 4 | AC10: =SUM(AN10:AY10)+AE10 -> 0 | AZ10: 4
A11: 5 | U11: =SUM(B11:T11) -> 0 | W11: 5 | Y11: =Y10+AC11-U11 -> 0 | AA11: =IF(AN11+AP11+AR11+AT11+AV11+AX11<>(AF11+AH11+AJ11+AL11),"Erreur","") | AB11: 5 | AC11: =SUM(AN11:AY11)+AE11 -> 0 | AZ11: 5
A12: 6 | U12: =SUM(B12:T12) -> 0 | W12: 6 | Y12: =Y11+AC12-U12 -> 0 | AA12: =IF(AN12+AP12+AR12+AT12+AV12+AX12<>(AF12+AH12+AJ12+AL12),"Erreur","") | AB12: 6 | AC12: =SUM(AN12:AY12)+AE12 -> 0 | AZ12: 6
A13: 7 | U13: =SUM(B13:T13) -> 0 | W13: 7 | Y13: =Y12+AC13-U13 -> 0 | AA13: =IF(AN13+AP13+AR13+AT13+AV13+AX13<>(AF13+AH13+AJ13+AL13),"Erreur","") | AB13: 7 | AC13: =SUM(AN13:AY13)+AE13 -> 0 | AZ13: 7
A14: 8 | U14: =SUM(B14:T14) -> 0 | W14: 8 | Y14: =Y13+AC14-U14 -> 0 | AA14: =IF(AN14+AP14+AR14+AT14+AV14+AX14<>(AF14+AH14+AJ14+AL14),"Erreur","") | AB14: 8 | AC14: =SUM(AN14:AY14)+AE14 -> 0 | AZ14: 8
A15: 9 | U15: =SUM(B15:T15) -> 0 | W15: 9 | Y15: =Y14+AC15-U15 -> 0 | AA15: =IF(AN15+AP15+AR15+AT15+AV15+AX15<>(AF15+AH15+AJ15+AL15),"Erreur","") | AB15: 9 | AC15: =SUM(AN15:AY15)+AE15 -> 0 | AZ15: 9
A16: 10 | U16: =SUM(B16:T16) -> 0 | W16: 10 | Y16: =Y15+AC16-U16 -> 0 | AA16: =IF(AN16+AP16+AR16+AT16+AV16+AX16<>(AF16+AH16+AJ16+AL16),"Erreur","") | AB16: 10 | AC16: =SUM(AN16:AY16)+AE16 -> 0 | AZ16: 10
A17: 11 | U17: =SUM(B17:T17) -> 0 | W17: 11 | Y17: =Y16+AC17-U17 -> 0 | AA17: =IF(AN17+AP17+AR17+AT17+AV17+AX17<>(AF17+AH17+AJ17+AL17),"Erreur","") | AB17: 11 | AC17: =SUM(AN17:AY17)+AE17 -> 0 | AZ17: 11
A18: 12 | U18: =SUM(B18:T18) -> 0 | W18: 12 | Y18: =Y17+AC18-U18 -> 0 | AA18: =IF(AN18+AP18+AR18+AT18+AV18+AX18<>(AF18+AH18+AJ18+AL18),"Erreur","") | AB18: 12 | AC18: =SUM(AN18:AY18)+AE18 -> 0 | AZ18: 12
A19: 13 | U19: =SUM(B19:T19) -> 0 | W19: 13 | Y19: =Y18+AC19-U19 -> 0 | AA19: =IF(AN19+AP19+AR19+AT19+AV19+AX19<>(AF19+AH19+AJ19+AL19),"Erreur","") | AB19: 13 | AC19: =SUM(AN19:AY19)+AE19 -> 0 | AZ19: 13
... A37: 31 | U37: =SUM(B37:T37) -> 0 | W37: 31 | Y37: =Y36+AC37-U37 -> 0 | AA37: =IF(AN37+AP37+AR37+AT37+AV37+AX37<>(AF37+AH37+AJ37+AL37),"Erreur","") | AB37: 31 | AC37: =SUM(AN37:AY37)+AE37 -> 0 | AZ37: 31
AA38: =IF(AC39<>(AF39+AH39+AJ39),"Erreur de ventilation >ventilation des recettes< et la somme des colonnes >Espèces/Chèques/Cartes/autres<","")
B39: =SUM(B7:C37) -> 0 | D39: =SUM(D7:E37) -> 0 | F39: =SUM(F7:G37) -> 0 | H39: =SUM(H7:I37) -> 0 | J39: =SUM(J7:K37) -> 0 | L39: =SUM(L7:M37) -> 0 | N39: =SUM(N7:N37) -> 0 | O39: =SUM(O7:P37) -> 0 | Q39: =SUM(Q7:R37) -> 0 | S39: =SUM(S7:T37) -> 0 | U39: =SUM(U7:V37) -> 0 | AB39: Total du mois | AC39: =SUM(AC7:AD37) -> 0 | AE39: =SUM(AE7:AE37) -> 0 | AF39: =SUM(AF7:AG37) -> 0 | AH39: =SUM(AH7:AI37) -> 0 | AJ39: =SUM(AJ7:AK37) -> 0 | AL39: =SUM(AL7:AL37) -> 0 | AN39: =SUM(AN7:AO37) -> 0 | AP39: =SUM(AP7:AQ37) -> 0 | AR39: =SUM(AR7:AS37) -> 0 | AT39: =SUM(AT7:AU37) -> 0 | AV39: =SUM(AV7:AW37) -> 0 | AX39: =SUM(AX7:AY37) -> 0
X41: Solde du mois à reporter : | Y41: =Y37 -> 0

Sheet Mois_8
A1: DETAIL DES SORTIES CAISSE | AB1: DETAIL DES ENTREES CAISSE
A2: =Presentation!C5 -> NOM DU DOSSIER | L2: =Presentation!E127 -> Août 2024 | S2: Solde du mois précédent | Y2: =+Mois_7!Y41 -> 0 | AF2: CENTRALISATION DU MOIS DE : | AK2: =L2 -> Août 2024
N4: DEPOTS BANQUE
A5: Jour | B5: Prélèvements Privés | D5: Fournisseurs, dépenses exploitation | N5: Autres (virements/ tickets resto…) | O5: Cartes Bancaires | Q5: Remises Chèques | S5: Versements Espèces | U5: Total Sorties Caisse | W5: Jour | Y5: Solde Caisse | AB5: Jour | AC5: Total Entrées Caisse | AE5: Entrées Caisse | AF5: Recettes Caisse | AN5: VENTILATION DES RECETTES | AZ5: Jour
D6: =+Mois_1!D6 -> nature | F6: =+Mois_1!F6 -> nature | H6: =+Mois_1!H6 -> nature | J6: =+Mois_1!J6 -> nature | L6: =+Mois_1!L6 -> nature | AE6: Monnaie | AF6: dont espèces | AH6: dont chèques | AJ6: dont cartes bancaires | AL6: dont autres (virements/ tickets resto…) | AN6: recette type 1 | AP6: recette type 2 | AR6: recette type 3 | AT6: recette type 4 | AV6: recette type 5 | AX6: Nature recettes diverses
A7: 1 | U7: =SUM(B7:T7) -> 0 | W7: 1 | Y7: =Y2+AC7-U7 -> 0 | AA7: =IF(AN7+AP7+AR7+AT7+AV7+AX7<>(AF7+AH7+AJ7+AL7),"Erreur","") | AB7: 1 | AC7: =SUM(AN7:AY7)+AE7 -> 0 | AZ7: 1
A8: 2 | U8: =SUM(B8:T8) -> 0 | W8: 2 | Y8: =Y7+AC8-U8 -> 0 | AA8: =IF(AN8+AP8+AR8+AT8+AV8+AX8<>(AF8+AH8+AJ8+AL8),"Erreur","") | AB8: 2 | AC8: =SUM(AN8:AY8)+AE8 -> 0 | AZ8: 2
A9: 3 | U9: =SUM(B9:T9) -> 0 | W9: 3 | Y9: =Y8+AC9-U9 -> 0 | AA9: =IF(AN9+AP9+AR9+AT9+AV9+AX9<>(AF9+AH9+AJ9+AL9),"Erreur","") | AB9: 3 | AC9: =SUM(AN9:AY9)+AE9 -> 0 | AZ9: 3
A10: 4 | U10: =SUM(B10:T10) -> 0 | W10: 4 | Y10: =Y9+AC10-U10 -> 0 | AA10: =IF(AN10+AP10+AR10+AT10+AV10+AX10<>(AF10+AH10+AJ10+AL10),"Erreur","") | AB10: 4 | AC10: =SUM(AN10:AY10)+AE10 -> 0 | AZ10: 4
A11: 5 | U11: =SUM(B11:T11) -> 0 | W11: 5 | Y11: =Y10+AC11-U11 -> 0 | AA11: =IF(AN11+AP11+AR11+AT11+AV11+AX11<>(AF11+AH11+AJ11+AL11),"Erreur","") | AB11: 5 | AC11: =SUM(AN11:AY11)+AE11 -> 0 | AZ11: 5
A12: 6 | U12: =SUM(B12:T12) -> 0 | W12: 6 | Y12: =Y11+AC12-U12 -> 0 | AA12: =IF(AN12+AP12+AR12+AT12+AV12+AX12<>(AF12+AH12+AJ12+AL12),"Erreur","") | AB12: 6 | AC12: =SUM(AN12:AY12)+AE12 -> 0 | AZ12: 6
A13: 7 | U13: =SUM(B13:T13) -> 0 | W13: 7 | Y13: =Y12+AC13-U13 -> 0 | AA13: =IF(AN13+AP13+AR13+AT13+AV13+AX13<>(AF13+AH13+AJ13+AL13),"Erreur","") | AB13: 7 | AC13: =SUM(AN13:AY13)+AE13 -> 0 | AZ13: 7
A14: 8 | U14: =SUM(B14:T14) -> 0 | W14: 8 | Y14: =Y13+AC14-U14 -> 0 | AA14: =IF(AN14+AP14+AR14+AT14+AV14+AX14<>(AF14+AH14+AJ14+AL14),"Erreur","") | AB14: 8 | AC14: =SUM(AN14:AY14)+AE14 -> 0 | AZ14: 8
A15: 9 | U15: =SUM(B15:T15) -> 0 | W15: 9 | Y15: =Y14+AC15-U15 -> 0 | AA15: =IF(AN15+AP15+AR15+AT15+AV15+AX15<>(AF15+AH15+AJ15+AL15),"Erreur","") | AB15: 9 | AC15: =SUM(AN15:AY15)+AE15 -> 0 | AZ15: 9
A16: 10 | U16: =SUM(B16:T16) -> 0 | W16: 10 | Y16: =Y15+AC16-U16 -> 0 | AA16: =IF(AN16+AP16+AR16+AT16+AV16+AX16<>(AF16+AH16+AJ16+AL16),"Erreur","") | AB16: 10 | AC16: =SUM(AN16:AY16)+AE16 -> 0 | AZ16: 10
A17: 11 | U17: =SUM(B17:T17) -> 0 | W17: 11 | Y17: =Y16+AC17-U17 -> 0 | AA17: =IF(AN17+AP17+AR17+AT17+AV17+AX17<>(AF17+AH17+AJ17+AL17),"Erreur","") | AB17: 11 | AC17: =SUM(AN17:AY17)+AE17 -> 0 | AZ17: 11
A18: 12 | U18: =SUM(B18:T18) -> 0 | W18: 12 | Y18: =Y17+AC18-U18 -> 0 | AA18: =IF(AN18+AP18+AR18+AT18+AV18+AX18<>(AF18+AH18+AJ18+AL18),"Erreur","") | AB18: 12 | AC18: =SUM(AN18:AY18)+AE18 -> 0 | AZ18: 12
A19: 13 | U19: =SUM(B19:T19) -> 0 | W19: 13 | Y19: =Y18+AC19-U19 -> 0 | AA19: =IF(AN19+AP19+AR19+AT19+AV19+AX19<>(AF19+AH19+AJ19+AL19),"Erreur","") | AB19: 13 | AC19: =SUM(AN19:AY19)+AE19 -> 0 | AZ19: 13
... A37: 31 | U37: =SUM(B37:T37) -> 0 | W37: 31 | Y37: =Y36+AC37-U37 -> 0 | AA37: =IF(AN37+AP37+AR37+AT37+AV37+AX37<>(AF37+AH37+AJ37+AL37),"Erreur","") | AB37: 31 | AC37: =SUM(AN37:AY37)+AE37 -> 0 | AZ37: 31
AA38: =IF(AC39<>(AF39+AH39+AJ39),"Erreur de ventilation >ventilation des recettes< et la somme des colonnes >Espèces/Chèques/Cartes/autres<","")
B39: =SUM(B7:C37) -> 0 | D39: =SUM(D7:E37) -> 0 | F39: =SUM(F7:G37) -> 0 | H39: =SUM(H7:I37) -> 0 | J39: =SUM(J7:K37) -> 0 | L39: =SUM(L7:M37) -> 0 | N39: =SUM(N7:N37) -> 0 | O39: =SUM(O7:P37) -> 0 | Q39: =SUM(Q7:R37) -> 0 | S39: =SUM(S7:T37) -> 0 | U39: =SUM(U7:V37) -> 0 | AB39: Total du mois | AC39: =SUM(AC7:AD37) -> 0 | AE39: =SUM(AE7:AE37) -> 0 | AF39: =SUM(AF7:AG37) -> 0 | AH39: =SUM(AH7:AI37) -> 0 | AJ39: =SUM(AJ7:AK37) -> 0 | AL39: =SUM(AL7:AL37) -> 0 | AN39: =SUM(AN7:AO37) -> 0 | AP39: =SUM(AP7:AQ37) -> 0 | AR39: =SUM(AR7:AS37) -> 0 | AT39: =SUM(AT7:AU37) -> 0 | AV39: =SUM(AV7:AW37) -> 0 | AX39: =SUM(AX7:AY37) -> 0
X41: Solde du mois à reporter : | Y41: =Y37 -> 0

Sheet Mois_9
A1: DETAIL DES SORTIES CAISSE | AB1: DETAIL DES ENTREES CAISSE
A2: =Presentation!C5 -> NOM DU DOSSIER | L2: =Presentation!E128 -> Septembre 2024 | S2: Solde du mois précédent | Y2: =+Mois_8!Y41 -> 0 | AF2: CENTRALISATION DU MOIS DE : | AK2: =L2 -> Septembre 2024
N4: DEPOTS BANQUE
A5: Jour | B5: Prélèvements Privés | D5: Fournisseurs, dépenses exploitation | N5: Autres (virements/ tickets resto…) | O5: Cartes Bancaires | Q5: Remises Chèques | S5: Versements Espèces | U5: Total Sorties Caisse | W5: Jour | Y5: Solde Caisse | AB5: Jour | AC5: Total Entrées Caisse | AE5: Entrées Caisse | AF5: Recettes Caisse | AN5: VENTILATION DES RECETTES | AZ5: Jour
D6: =+Mois_1!D6 -> nature | F6: =+Mois_1!F6 -> nature | H6: =+Mois_1!H6 -> nature | J6: =+Mois_1!J6 -> nature | L6: =+Mois_1!L6 -> nature | AE6: Monnaie | AF6: dont espèces | AH6: dont chèques | AJ6: dont cartes bancaires | AL6: dont autres (virements/ tickets resto…) | AN6: recette type 1 | AP6: recette type 2 | AR6: recette type 3 | AT6: recette type 4 | AV6: recette type 5 | AX6: Nature recettes diverses
A7: 1 | U7: =SUM(B7:T7) -> 0 | W7: 1 | Y7: =Y2+AC7-U7 -> 0 | AA7: =IF(AN7+AP7+AR7+AT7+AV7+AX7<>(AF7+AH7+AJ7+AL7),"Erreur","") | AB7: 1 | AC7: =SUM(AN7:AY7)+AE7 -> 0 | AZ7: 1
A8: 2 | U8: =SUM(B8:T8) -> 0 | W8: 2 | Y8: =Y7+AC8-U8 -> 0 | AA8: =IF(AN8+AP8+AR8+AT8+AV8+AX8<>(AF8+AH8+AJ8+AL8),"Erreur","") | AB8: 2 | AC8: =SUM(AN8:AY8)+AE8 -> 0 | AZ8: 2
A9: 3 | U9: =SUM(B9:T9) -> 0 | W9: 3 | Y9: =Y8+AC9-U9 -> 0 | AA9: =IF(AN9+AP9+AR9+AT9+AV9+AX9<>(AF9+AH9+AJ9+AL9),"Erreur","") | AB9: 3 | AC9: =SUM(AN9:AY9)+AE9 -> 0 | AZ9: 3
A10: 4 | U10: =SUM(B10:T10) -> 0 | W10: 4 | Y10: =Y9+AC10-U10 -> 0 | AA10: =IF(AN10+AP10+AR10+AT10+AV10+AX10<>(AF10+AH10+AJ10+AL10),"Erreur","") | AB10: 4 | AC10: =SUM(AN10:AY10)+AE10 -> 0 | AZ10: 4
A11: 5 | U11: =SUM(B11:T11) -> 0 | W11: 5 | Y11: =Y10+AC11-U11 -> 0 | AA11: =IF(AN11+AP11+AR11+AT11+AV11+AX11<>(AF11+AH11+AJ11+AL11),"Erreur","") | AB11: 5 | AC11: =SUM(AN11:AY11)+AE11 -> 0 | AZ11: 5
A12: 6 | U12: =SUM(B12:T12) -> 0 | W12: 6 | Y12: =Y11+AC12-U12 -> 0 | AA12: =IF(AN12+AP12+AR12+AT12+AV12+AX12<>(AF12+AH12+AJ12+AL12),"Erreur","") | AB12: 6 | AC12: =SUM(AN12:AY12)+AE12 -> 0 | AZ12: 6
A13: 7 | U13: =SUM(B13:T13) -> 0 | W13: 7 | Y13: =Y12+AC13-U13 -> 0 | AA13: =IF(AN13+AP13+AR13+AT13+AV13+AX13<>(AF13+AH13+AJ13+AL13),"Erreur","") | AB13: 7 | AC13: =SUM(AN13:AY13)+AE13 -> 0 | AZ13: 7
A14: 8 | U14: =SUM(B14:T14) -> 0 | W14: 8 | Y14: =Y13+AC14-U14 -> 0 | AA14: =IF(AN14+AP14+AR14+AT14+AV14+AX14<>(AF14+AH14+AJ14+AL14),"Erreur","") | AB14: 8 | AC14: =SUM(AN14:AY14)+AE14 -> 0 | AZ14: 8
A15: 9 | U15: =SUM(B15:T15) -> 0 | W15: 9 | Y15: =Y14+AC15-U15 -> 0 | AA15: =IF(AN15+AP15+AR15+AT15+AV15+AX15<>(AF15+AH15+AJ15+AL15),"Erreur","") | AB15: 9 | AC15: =SUM(AN15:AY15)+AE15 -> 0 | AZ15: 9
A16: 10 | U16: =SUM(B16:T16) -> 0 | W16: 10 | Y16: =Y15+AC16-U16 -> 0 | AA16: =IF(AN16+AP16+AR16+AT16+AV16+AX16<>(AF16+AH16+AJ16+AL16),"Erreur","") | AB16: 10 | AC16: =SUM(AN16:AY16)+AE16 -> 0 | AZ16: 10
A17: 11 | U17: =SUM(B17:T17) -> 0 | W17: 11 | Y17: =Y16+AC17-U17 -> 0 | AA17: =IF(AN17+AP17+AR17+AT17+AV17+AX17<>(AF17+AH17+AJ17+AL17),"Erreur","") | AB17: 11 | AC17: =SUM(AN17:AY17)+AE17 -> 0 | AZ17: 11
A18: 12 | U18: =SUM(B18:T18) -> 0 | W18: 12 | Y18: =Y17+AC18-U18 -> 0 | AA18: =IF(AN18+AP18+AR18+AT18+AV18+AX18<>(AF18+AH18+AJ18+AL18),"Erreur","") | AB18: 12 | AC18: =SUM(AN18:AY18)+AE18 -> 0 | AZ18: 12
A19: 13 | U19: =SUM(B19:T19) -> 0 | W19: 13 | Y19: =Y18+AC19-U19 -> 0 | AA19: =IF(AN19+AP19+AR19+AT19+AV19+AX19<>(AF19+AH19+AJ19+AL19),"Erreur","") | AB19: 13 | AC19: =SUM(AN19:AY19)+AE19 -> 0 | AZ19: 13
... A37: 31 | U37: =SUM(B37:T37) -> 0 | W37: 31 | Y37: =Y36+AC37-U37 -> 0 | AA37: =IF(AN37+AP37+AR37+AT37+AV37+AX37<>(AF37+AH37+AJ37+AL37),"Erreur","") | AB37: 31 | AC37: =SUM(AN37:AY37)+AE37 -> 0 | AZ37: 31
AA38: =IF(AC39<>(AF39+AH39+AJ39),"Erreur de ventilation >ventilation des recettes< et la somme des colonnes >Espèces/Chèques/Cartes/autres<","")
B39: =SUM(B7:C37) -> 0 | D39: =SUM(D7:E37) -> 0 | F39: =SUM(F7:G37) -> 0 | H39: =SUM(H7:I37) -> 0 | J39: =SUM(J7:K37) -> 0 | L39: =SUM(L7:M37) -> 0 | N39: =SUM(N7:N37) -> 0 | O39: =SUM(O7:P37) -> 0 | Q39: =SUM(Q7:R37) -> 0 | S39: =SUM(S7:T37) -> 0 | U39: =SUM(U7:V37) -> 0 | AB39: Total du mois | AC39: =SUM(AC7:AD37) -> 0 | AE39: =SUM(AE7:AE37) -> 0 | AF39: =SUM(AF7:AG37) -> 0 | AH39: =SUM(AH7:AI37) -> 0 | AJ39: =SUM(AJ7:AK37) -> 0 | AL39: =SUM(AL7:AL37) -> 0 | AN39: =SUM(AN7:AO37) -> 0 | AP39: =SUM(AP7:AQ37) -> 0 | AR39: =SUM(AR7:AS37) -> 0 | AT39: =SUM(AT7:AU37) -> 0 | AV39: =SUM(AV7:AW37) -> 0 | AX39: =SUM(AX7:AY37) -> 0
X41: Solde du mois à reporter : | Y41: =Y37 -> 0

Sheet Mois_10
A1: DETAIL DES SORTIES CAISSE | AB1: DETAIL DES ENTREES CAISSE
A2: =Presentation!C5 -> NOM DU DOSSIER | L2: =Presentation!E129 -> Octobre 2024 | S2: Solde du mois précédent | Y2: =+Mois_9!Y41 -> 0 | AF2: CENTRALISATION DU MOIS DE : | AK2: =L2 -> Octobre 2024
N4: DEPOTS BANQUE
A5: Jour | B5: Prélèvements Privés | D5: Fournisseurs, dépenses exploitation | N5: Autres (virements/ tickets resto…) | O5: Cartes Bancaires | Q5: Remises Chèques | S5: Versements Espèces | U5: Total Sorties Caisse | W5: Jour | Y5: Solde Caisse | AB5: Jour | AC5: Total Entrées Caisse | AE5: Entrées Caisse | AF5: Recettes Caisse | AN5: VENTILATION DES RECETTES | AZ5: Jour
D6: =+Mois_1!D6 -> nature | F6: =+Mois_1!F6 -> nature | H6: =+Mois_1!H6 -> nature | J6: =+Mois_1!J6 -> nature | L6: =+Mois_1!L6 -> nature | AE6: Monnaie | AF6: dont espèces | AH6: dont chèques | AJ6: dont cartes bancaires | AL6: dont autres (virements/ tickets resto…) | AN6: recette type 1 | AP6: recette type 2 | AR6: recette type 3 | AT6: recette type 4 | AV6: recette type 5 | AX6: Nature recettes diverses
A7: 1 | U7: =SUM(B7:T7) -> 0 | W7: 1 | Y7: =Y2+AC7-U7 -> 0 | AA7: =IF(AN7+AP7+AR7+AT7+AV7+AX7<>(AF7+AH7+AJ7+AL7),"Erreur","") | AB7: 1 | AC7: =SUM(AN7:AY7)+AE7 -> 0 | AZ7: 1
A8: 2 | U8: =SUM(B8:T8) -> 0 | W8: 2 | Y8: =Y7+AC8-U8 -> 0 | AA8: =IF(AN8+AP8+AR8+AT8+AV8+AX8<>(AF8+AH8+AJ8+AL8),"Erreur","") | AB8: 2 | AC8: =SUM(AN8:AY8)+AE8 -> 0 | AZ8: 2
A9: 3 | U9: =SUM(B9:T9) -> 0 | W9: 3 | Y9: =Y8+AC9-U9 -> 0 | AA9: =IF(AN9+AP9+AR9+AT9+AV9+AX9<>(AF9+AH9+AJ9+AL9),"Erreur","") | AB9: 3 | AC9: =SUM(AN9:AY9)+AE9 -> 0 | AZ9: 3
A10: 4 | U10: =SUM(B10:T10) -> 0 | W10: 4 | Y10: =Y9+AC10-U10 -> 0 | AA10: =IF(AN10+AP10+AR10+AT10+AV10+AX10<>(AF10+AH10+AJ10+AL10),"Erreur","") | AB10: 4 | AC10: =SUM(AN10:AY10)+AE10 -> 0 | AZ10: 4
A11: 5 | U11: =SUM(B11:T11) -> 0 | W11: 5 | Y11: =Y10+AC11-U11 -> 0 | AA11: =IF(AN11+AP11+AR11+AT11+AV11+AX11<>(AF11+AH11+AJ11+AL11),"Erreur","") | AB11: 5 | AC11: =SUM(AN11:AY11)+AE11 -> 0 | AZ11: 5
A12: 6 | U12: =SUM(B12:T12) -> 0 | W12: 6 | Y12: =Y11+AC12-U12 -> 0 | AA12: =IF(AN12+AP12+AR12+AT12+AV12+AX12<>(AF12+AH12+AJ12+AL12),"Erreur","") | AB12: 6 | AC12: =SUM(AN12:AY12)+AE12 -> 0 | AZ12: 6
A13: 7 | U13: =SUM(B13:T13) -> 0 | W13: 7 | Y13: =Y12+AC13-U13 -> 0 | AA13: =IF(AN13+AP13+AR13+AT13+AV13+AX13<>(AF13+AH13+AJ13+AL13),"Erreur","") | AB13: 7 | AC13: =SUM(AN13:AY13)+AE13 -> 0 | AZ13: 7
A14: 8 | U14: =SUM(B14:T14) -> 0 | W14: 8 | Y14: =Y13+AC14-U14 -> 0 | AA14: =IF(AN14+AP14+AR14+AT14+AV14+AX14<>(AF14+AH14+AJ14+AL14),"Erreur","") | AB14: 8 | AC14: =SUM(AN14:AY14)+AE14 -> 0 | AZ14: 8
A15: 9 | U15: =SUM(B15:T15) -> 0 | W15: 9 | Y15: =Y14+AC15-U15 -> 0 | AA15: =IF(AN15+AP15+AR15+AT15+AV15+AX15<>(AF15+AH15+AJ15+AL15),"Erreur","") | AB15: 9 | AC15: =SUM(AN15:AY15)+AE15 -> 0 | AZ15: 9
A16: 10 | U16: =SUM(B16:T16) -> 0 | W16: 10 | Y16: =Y15+AC16-U16 -> 0 | AA16: =IF(AN16+AP16+AR16+AT16+AV16+AX16<>(AF16+AH16+AJ16+AL16),"Erreur","") | AB16: 10 | AC16: =SUM(AN16:AY16)+AE16 -> 0 | AZ16: 10
A17: 11 | U17: =SUM(B17:T17) -> 0 | W17: 11 | Y17: =Y16+AC17-U17 -> 0 | AA17: =IF(AN17+AP17+AR17+AT17+AV17+AX17<>(AF17+AH17+AJ17+AL17),"Erreur","") | AB17: 11 | AC17: =SUM(AN17:AY17)+AE17 -> 0 | AZ17: 11
A18: 12 | U18: =SUM(B18:T18) -> 0 | W18: 12 | Y18: =Y17+AC18-U18 -> 0 | AA18: =IF(AN18+AP18+AR18+AT18+AV18+AX18<>(AF18+AH18+AJ18+AL18),"Erreur","") | AB18: 12 | AC18: =SUM(AN18:AY18)+AE18 -> 0 | AZ18: 12
A19: 13 | U19: =SUM(B19:T19) -> 0 | W19: 13 | Y19: =Y18+AC19-U19 -> 0 | AA19: =IF(AN19+AP19+AR19+AT19+AV19+AX19<>(AF19+AH19+AJ19+AL19),"Erreur","") | AB19: 13 | AC19: =SUM(AN19:AY19)+AE19 -> 0 | AZ19: 13
... A37: 31 | U37: =SUM(B37:T37) -> 0 | W37: 31 | Y37: =Y36+AC37-U37 -> 0 | AA37: =IF(AN37+AP37+AR37+AT37+AV37+AX37<>(AF37+AH37+AJ37+AL37),"Erreur","") | AB37: 31 | AC37: =SUM(AN37:AY37)+AE37 -> 0 | AZ37: 31
AA38: =IF(AC39<>(AF39+AH39+AJ39),"Erreur de ventilation >ventilation des recettes< et la somme des colonnes >Espèces/Chèques/Cartes/autres<","")
B39: =SUM(B7:C37) -> 0 | D39: =SUM(D7:E37) -> 0 | F39: =SUM(F7:G37) -> 0 | H39: =SUM(H7:I37) -> 0 | J39: =SUM(J7:K37) -> 0 | L39: =SUM(L7:M37) -> 0 | N39: =SUM(N7:N37) -> 0 | O39: =SUM(O7:P37) -> 0 | Q39: =SUM(Q7:R37) -> 0 | S39: =SUM(S7:T37) -> 0 | U39: =SUM(U7:V37) -> 0 | AB39: Total du mois | AC39: =SUM(AC7:AD37) -> 0 | AE39: =SUM(AE7:AE37) -> 0 | AF39: =SUM(AF7:AG37) -> 0 | AH39: =SUM(AH7:AI37) -> 0 | AJ39: =SUM(AJ7:AK37) -> 0 | AL39: =SUM(AL7:AL37) -> 0 | AN39: =SUM(AN7:AO37) -> 0 | AP39: =SUM(AP7:AQ37) -> 0 | AR39: =SUM(AR7:AS37) -> 0 | AT39: =SUM(AT7:AU37) -> 0 | AV39: =SUM(AV7:AW37) -> 0 | AX39: =SUM(AX7:AY37) -> 0
X41: Solde du mois à reporter : | Y41: =Y37 -> 0

Sheet Mois_11
A1: DETAIL DES SORTIES CAISSE | AB1: DETAIL DES ENTREES CAISSE
A2: =Presentation!C5 -> NOM DU DOSSIER | L2: =Presentation!E130 -> Novembre 2024 | S2: Solde du mois précédent | Y2: =+Mois_10!Y41 -> 0 | AF2: CENTRALISATION DU MOIS DE : | AK2: =L2 -> Novembre 2024
N4: DEPOTS BANQUE
A5: Jour | B5: Prélèvements Privés | D5: Fournisseurs, dépenses exploitation | N5: Autres (virements/ tickets resto…) | O5: Cartes Bancaires | Q5: Remises Chèques | S5: Versements Espèces | U5: Total Sorties Caisse | W5: Jour | Y5: Solde Caisse | AB5: Jour | AC5: Total Entrées Caisse | AE5: Entrées Caisse | AF5: Recettes Caisse | AN5: VENTILATION DES RECETTES | AZ5: Jour
D6: =+Mois_1!D6 -> nature | F6: =+Mois_1!F6 -> nature | H6: =+Mois_1!H6 -> nature | J6: =+Mois_1!J6 -> nature | L6: =+Mois_1!L6 -> nature | AE6: Monnaie | AF6: dont espèces | AH6: dont chèques | AJ6: dont cartes bancaires | AL6: dont autres (virements/ tickets resto…) | AN6: recette type 1 | AP6: recette type 2 | AR6: recette type 3 | AT6: recette type 4 | AV6: recette type 5 | AX6: Nature recettes diverses
A7: 1 | U7: =SUM(B7:T7) -> 0 | W7: 1 | Y7: =Y2+AC7-U7 -> 0 | AA7: =IF(AN7+AP7+AR7+AT7+AV7+AX7<>(AF7+AH7+AJ7+AL7),"Erreur","") | AB7: 1 | AC7: =SUM(AN7:AY7)+AE7 -> 0 | AZ7: 1
A8: 2 | U8: =SUM(B8:T8) -> 0 | W8: 2 | Y8: =Y7+AC8-U8 -> 0 | AA8: =IF(AN8+AP8+AR8+AT8+AV8+AX8<>(AF8+AH8+AJ8+AL8),"Erreur","") | AB8: 2 | AC8: =SUM(AN8:AY8)+AE8 -> 0 | AZ8: 2
A9: 3 | U9: =SUM(B9:T9) -> 0 | W9: 3 | Y9: =Y8+AC9-U9 -> 0 | AA9: =IF(AN9+AP9+AR9+AT9+AV9+AX9<>(AF9+AH9+AJ9+AL9),"Erreur","") | AB9: 3 | AC9: =SUM(AN9:AY9)+AE9 -> 0 | AZ9: 3
A10: 4 | U10: =SUM(B10:T10) -> 0 | W10: 4 | Y10: =Y9+AC10-U10 -> 0 | AA10: =IF(AN10+AP10+AR10+AT10+AV10+AX10<>(AF10+AH10+AJ10+AL10),"Erreur","") | AB10: 4 | AC10: =SUM(AN10:AY10)+AE10 -> 0 | AZ10: 4
A11: 5 | U11: =SUM(B11:T11) -> 0 | W11: 5 | Y11: =Y10+AC11-U11 -> 0 | AA11: =IF(AN11+AP11+AR11+AT11+AV11+AX11<>(AF11+AH11+AJ11+AL11),"Erreur","") | AB11: 5 | AC11: =SUM(AN11:AY11)+AE11 -> 0 | AZ11: 5
A12: 6 | U12: =SUM(B12:T12) -> 0 | W12: 6 | Y12: =Y11+AC12-U12 -> 0 | AA12: =IF(AN12+AP12+AR12+AT12+AV12+AX12<>(AF12+AH12+AJ12+AL12),"Erreur","") | AB12: 6 | AC12: =SUM(AN12:AY12)+AE12 -> 0 | AZ12: 6
A13: 7 | U13: =SUM(B13:T13) -> 0 | W13: 7 | Y13: =Y12+AC13-U13 -> 0 | AA13: =IF(AN13+AP13+AR13+AT13+AV13+AX13<>(AF13+AH13+AJ13+AL13),"Erreur","") | AB13: 7 | AC13: =SUM(AN13:AY13)+AE13 -> 0 | AZ13: 7
A14: 8 | U14: =SUM(B14:T14) -> 0 | W14: 8 | Y14: =Y13+AC14-U14 -> 0 | AA14: =IF(AN14+AP14+AR14+AT14+AV14+AX14<>(AF14+AH14+AJ14+AL14),"Erreur","") | AB14: 8 | AC14: =SUM(AN14:AY14)+AE14 -> 0 | AZ14: 8
A15: 9 | U15: =SUM(B15:T15) -> 0 | W15: 9 | Y15: =Y14+AC15-U15 -> 0 | AA15: =IF(AN15+AP15+AR15+AT15+AV15+AX15<>(AF15+AH15+AJ15+AL15),"Erreur","") | AB15: 9 | AC15: =SUM(AN15:AY15)+AE15 -> 0 | AZ15: 9
A16: 10 | U16: =SUM(B16:T16) -> 0 | W16: 10 | Y16: =Y15+AC16-U16 -> 0 | AA16: =IF(AN16+AP16+AR16+AT16+AV16+AX16<>(AF16+AH16+AJ16+AL16),"Erreur","") | AB16: 10 | AC16: =SUM(AN16:AY16)+AE16 -> 0 | AZ16: 10
A17: 11 | U17: =SUM(B17:T17) -> 0 | W17: 11 | Y17: =Y16+AC17-U17 -> 0 | AA17: =IF(AN17+AP17+AR17+AT17+AV17+AX17<>(AF17+AH17+AJ17+AL17),"Erreur","") | AB17: 11 | AC17: =SUM(AN17:AY17)+AE17 -> 0 | AZ17: 11
A18: 12 | U18: =SUM(B18:T18) -> 0 | W18: 12 | Y18: =Y17+AC18-U18 -> 0 | AA18: =IF(AN18+AP18+AR18+AT18+AV18+AX18<>(AF18+AH18+AJ18+AL18),"Erreur","") | AB18: 12 | AC18: =SUM(AN18:AY18)+AE18 -> 0 | AZ18: 12
A19: 13 | U19: =SUM(B19:T19) -> 0 | W19: 13 | Y19: =Y18+AC19-U19 -> 0 | AA19: =IF(AN19+AP19+AR19+AT19+AV19+AX19<>(AF19+AH19+AJ19+AL19),"Erreur","") | AB19: 13 | AC19: =SUM(AN19:AY19)+AE19 -> 0 | AZ19: 13
... A37: 31 | U37: =SUM(B37:T37) -> 0 | W37: 31 | Y37: =Y36+AC37-U37 -> 0 | AA37: =IF(AN37+AP37+AR37+AT37+AV37+AX37<>(AF37+AH37+AJ37+AL37),"Erreur","") | AB37: 31 | AC37: =SUM(AN37:AY37)+AE37 -> 0 | AZ37: 31
AA38: =IF(AC39<>(AF39+AH39+AJ39),"Erreur de ventilation >ventilation des recettes< et la somme des colonnes >Espèces/Chèques/Cartes/autres<","")
B39: =SUM(B7:C37) -> 0 | D39: =SUM(D7:E37) -> 0 | F39: =SUM(F7:G37) -> 0 | H39: =SUM(H7:I37) -> 0 | J39: =SUM(J7:K37) -> 0 | L39: =SUM(L7:M37) -> 0 | N39: =SUM(N7:N37) -> 0 | O39: =SUM(O7:P37) -> 0 | Q39: =SUM(Q7:R37) -> 0 | S39: =SUM(S7:T37) -> 0 | U39: =SUM(U7:V37) -> 0 | AB39: Total du mois | AC39: =SUM(AC7:AD37) -> 0 | AE39: =SUM(AE7:AE37) -> 0 | AF39: =SUM(AF7:AG37) -> 0 | AH39: =SUM(AH7:AI37) -> 0 | AJ39: =SUM(AJ7:AK37) -> 0 | AL39: =SUM(AL7:AL37) -> 0 | AN39: =SUM(AN7:AO37) -> 0 | AP39: =SUM(AP7:AQ37) -> 0 | AR39: =SUM(AR7:AS37) -> 0 | AT39: =SUM(AT7:AU37) -> 0 | AV39: =SUM(AV7:AW37) -> 0 | AX39: =SUM(AX7:AY37) -> 0
X41: Solde du mois à reporter : | Y41: =Y37 -> 0

Sheet Mois_12
A1: DETAIL DES SORTIES CAISSE | AB1: DETAIL DES ENTREES CAISSE
A2: =Presentation!C5 -> NOM DU DOSSIER | L2: =Presentation!E131 -> Décembre 2024 | S2: Solde du mois précédent | Y2: =+Mois_11!Y41 -> 0 | AF2: CENTRALISATION DU MOIS DE : | AK2: =L2 -> Décembre 2024
N4: DEPOTS BANQUE
A5: Jour | B5: Prélèvements Privés | D5: Fournisseurs, dépenses exploitation | N5: Autres (virements/ tickets resto…) | O5: Cartes Bancaires | Q5: Remises Chèques | S5: Versements Espèces | U5: Total Sorties Caisse | W5: Jour | Y5: Solde Caisse | AB5: Jour | AC5: Total Entrées Caisse | AE5: Entrées Caisse | AF5: Recettes Caisse | AN5: VENTILATION DES RECETTES | AZ5: Jour
D6: =+Mois_1!D6 -> nature | F6: =+Mois_1!F6 -> nature | H6: =+Mois_1!H6 -> nature | J6: =+Mois_1!J6 -> nature | L6: =+Mois_1!L6 -> nature | AE6: Monnaie | AF6: dont espèces | AH6: dont chèques | AJ6: dont cartes bancaires | AL6: dont autres (virements/ tickets resto…) | AN6: recette type 1 | AP6: recette type 2 | AR6: recette type 3 | AT6: recette type 4 | AV6: recette type 5 | AX6: Nature recettes diverses
A7: 1 | U7: =SUM(B7:T7) -> 0 | W7: 1 | Y7: =Y2+AC7-U7 -> 0 | AA7: =IF(AN7+AP7+AR7+AT7+AV7+AX7<>(AF7+AH7+AJ7+AL7),"Erreur","") | AB7: 1 | AC7: =SUM(AN7:AY7)+AE7 -> 0 | AZ7: 1
A8: 2 | U8: =SUM(B8:T8) -> 0 | W8: 2 | Y8: =Y7+AC8-U8 -> 0 | AA8: =IF(AN8+AP8+AR8+AT8+AV8+AX8<>(AF8+AH8+AJ8+AL8),"Erreur","") | AB8: 2 | AC8: =SUM(AN8:AY8)+AE8 -> 0 | AZ8: 2
A9: 3 | U9: =SUM(B9:T9) -> 0 | W9: 3 | Y9: =Y8+AC9-U9 -> 0 | AA9: =IF(AN9+AP9+AR9+AT9+AV9+AX9<>(AF9+AH9+AJ9+AL9),"Erreur","") | AB9: 3 | AC9: =SUM(AN9:AY9)+AE9 -> 0 | AZ9: 3
A10: 4 | U10: =SUM(B10:T10) -> 0 | W10: 4 | Y10: =Y9+AC10-U10 -> 0 | AA10: =IF(AN10+AP10+AR10+AT10+AV10+AX10<>(AF10+AH10+AJ10+AL10),"Erreur","") | AB10: 4 | AC10: =SUM(AN10:AY10)+AE10 -> 0 | AZ10: 4
